Workbook

Sheet Entry
A2: Days | B2: SA | C2: S | D2: M | E2: T | F2: W | G2: TH | H2: F | I2: SA | J2: S | K2: M | L2: T | M2: W | N2: TH | O2: F | P2: SA | Q2: S | R2: M | S2: T | T2: W | U2: TH | V2: F | W2: SA | X2: S | Y2: M | Z2: T | AA2: W | AB2: TH | AC2: F | AD2: SA | AE2: S | AF2: M
A3: DR. ASHWANI PRADHAN | B3: GS | C3: GS | D3: O | E3: GS | F3: GS | G3: GS | H3: GS | I3: GS | J3: GS | K3: O | L3: GS | M3: GS | N3: GS | O3: GS | P3: GS | Q3: GS | R3: O | S3: GS | T3: GS | U3: GS | V3: GS | W3: GS | X3: GS | Y3: O | Z3: GS | AA3: GS | AB3: GS | AC3: GS | AD3: GS | AE3: GS | AF3: O
A4: DR. SURAJ SAO | B4: GS | C4: GS | D4: GS | E4: GS | F4: O | G4: GS | H4: GS | I4: GS | J4: GS | K4: GS | L4: GS | M4: O | N4: GS | O4: GS | P4: GS | Q4: GS | R4: GS | S4: GS | T4: O | U4: GS | V4: GS | W4: GS | X4: GS | Y4: GS | Z4: GS | AA4: O | AB4: GS | AC4: GS | AD4: GS | AE4: GS | AF4: GS
A5: DR. PANKAJ VERMA | B5: GS | C5: GS | D5: O | E5: GS | F5: GS | G5: GS | H5: GS | I5: GS | J5: GS | K5: O | L5: GS | M5: GS | N5: GS | O5: GS | P5: GS | Q5: GS | R5: O | S5: GS | T5: GS | U5: GS | V5: GS | W5: GS | X5: GS | Y5: O | Z5: GS | AA5: GS | AB5: GS | AC5: GS | AD5: GS | AE5: GS | AF5: O
A6: DR. SANJANA DEBNATH | B6: GS | C6: GS | D6: O | E6: GS | F6: GS | G6: GS | H6: GS | I6: GS | J6: GS | K6: O | L6: GS | M6: GS | N6: GS | O6: GS | P6: GS | Q6: GS | R6: O | S6: GS | T6: GS | U6: GS | V6: GS | W6: GS | X6: GS | Y6: O | Z6: GS | AA6: GS | AB6: GS | AC6: GS | AD6: GS | AE6: GS | AF6: O
A7: DR. JAYA SINGH KHARSON | B7: GS | C7: GS | D7: O | E7: GS | F7: GS | G7: GS | H7: GS | I7: GS | J7: GS | K7: O | L7: GS | M7: GS | N7: GS | O7: GS | P7: GS | Q7: GS | R7: O | S7: GS | T7: GS | U7: GS | V7: GS | W7: GS | X7: GS | Y7: O | Z7: GS | AA7: GS | AB7: GS | AC7: GS | AD7: GS | AE7: GS | AF7: O
A8: DR. RAHUL SINGH | B8: GS | C8: GS | D8: O | E8: GS | F8: GS | G8: GS | H8: GS | I8: GS | J8: GS | K8: O | L8: GS | M8: GS | N8: GS | O8: GS | P8: GS | Q8: GS | R8: O | S8: GS | T8: GS | U8: GS | V8: GS | W8: GS | X8: GS | Y8: O | Z8: GS | AA8: GS | AB8: GS | AC8: GS | AD8: GS | AE8: GS | AF8: O
A9: DR. SONIA SINGH | B9: GS | C9: GS | D9: O | E9: GS | F9: GS | G9: GS | H9: GS | I9: GS | J9: GS | K9: O | L9: GS | M9: GS | N9: GS | O9: GS | P9: GS | Q9: GS | R9: O | S9: GS | T9: GS | U9: GS | V9: GS | W9: GS | X9: GS | Y9: O | Z9: GS | AA9: GS | AB9: GS | AC9: GS | AD9: GS | AE9: GS | AF9: O
A10: DR. AKANSHA PURI | B10: GS | C10: GS | D10: O | E10: GS | F10: GS | G10: GS | H10: GS | I10: GS | J10: GS | K10: O | L10: GS | M10: GS | N10: GS | O10: GS | P10: GS | Q10: GS | R10: O | S10: GS | T10: GS | U10: GS | V10: GS | W10: GS | X10: GS | Y10: O | Z10: GS | AA10: GS | AB10: GS | AC10: GS | AD10: GS | AE10: GS | AF10: O
A11: DR. NAMITA PATEL | B11: O | C11: GS | D11: O | E11: GS | F11: GS | G11: GS | H11: GS | I11: GS | J11: GS | K11: O | L11: GS | M11: GS | N11: GS | O11: GS | P11: GS | Q11: GS | R11: O | S11: GS | T11: GS | U11: GS | V11: GS | W11: GS | X11: GS | Y11: O | Z11: GS | AA11: GS | AB11: GS | AC11: GS | AD11: GS | AE11: GS | AF11: O
A12: DR. VIBHA SEN | B12: GS | C12: GS | D12: O | E12: GS | F12: GS | G12: GS | H12: GS | I12: GS | J12: GS | K12: O | L12: GS | M12: GS | N12: GS | O12: GS | P12: GS | Q12: GS | R12: O | S12: GS | T12: GS | U12: GS | V12: GS | W12: GS | X12: GS | Y12: O | Z12: GS | AA12: GS | AB12: GS | AC12: GS | AD12: GS | AE12: GS | AF12: O
A13: DR. VINITA MAYANK GUPTA | B13: O | C13: O | D13: M | E13: O | F13: M | G13: M | H13: M | I13: M | J13: M | K13: M | L13: O | M13: E | N13: E | O13: E | P13: E | Q13: E | R13: E | S13: O | T13: E | U13: E | V13: N | W13: E | X13: E | Y13: E | Z13: O | AA13: E | AB13: E | AC13: M | AD13: M | AE13: M | AF13: M
... A114: Ms. Samari Sarthi | B114: M | C114: M | D114: M | E114: M | F114: M | G114: O | H114: M | I114: M | J114: M | K114: M | L114: M | M114: M | N114: O | O114: M | P114: M | Q114: M | R114: M | S114: M | T114: M | U114: O | V114: M | W114: M | X114: M | Y114: M | Z114: M | AA114: M | AB114: O | AC114: M | AD114: M | AE114: M | AF114: M

Sheet Main
A1: RAIGARH MEDICAL COLLEGE & HOSPITAL OF AYURVEDA
A3: Days | B3: 1F | C3: 2ST | D3: 3S | E3: 4M | F3: 5T | G3: 6W | H3: 7TH | I3: 8F | J3: 9ST | K3: 10S | L3: 11M | M3: 12T | N3: 13W | O3: 14TH | P3: 15F | Q3: 16ST | R3: 17S | S3: 18M | T3: 19T | U3: 20W | V3: 21TH | W3: 22F | X3: 23ST | Y3: 24S | Z3: 25M | AA3: 26T | AB3: 27W | AC3: 28TH | AD3: 29F | AE3: 30ST | AF3: 31S
A4: Department: Default
A5: =Entry!A3 -> DR. ASHWANI PRADHAN | H5: Total Work Duration: | L5: =AH21 -> 8.7666667 | M5: Hrs. | N5: Total OT: | P5: 0 | Q5: Hrs | R5: Present: | T5: =AI7 -> 26 | U5: Absent: | W5: =AI8 -> 0 | X5: WeeklyOff: | Z5: =AI9 -> 5 | AA5: Holidays: 0 Leaves Taken:0
H6: Late By Hrs: | K6: =AH20 -> 0.089583333 | L6: Late By Days: | N6: 0
A7: Status | B7: =IF(B14="M","P",IF(B14="E","P",IF(B14="N","P",IF(B14="GS","P",IF(B14="O","O","A"))))) -> P | C7: =IF(C14="M","P",IF(C14="E","P",IF(C14="N","P",IF(C14="GS","P",IF(C14="O","O","A"))))) -> P | D7: =IF(D14="M","P",IF(D14="E","P",IF(D14="N","P",IF(D14="GS","P",IF(D14="O","O","A"))))) -> O | E7: =IF(E14="M","P",IF(E14="E","P",IF(E14="N","P",IF(E14="GS","P",IF(E14="O","O","A"))))) -> P | F7: =IF(F14="M","P",IF(F14="E","P",IF(F14="N","P",IF(F14="GS","P",IF(F14="O","O","A"))))) -> P | G7: =IF(G14="M","P",IF(G14="E","P",IF(G14="N","P",IF(G14="GS","P",IF(G14="O","O","A"))))) -> P | H7: =IF(H14="M","P",IF(H14="E","P",IF(H14="N","P",IF(H14="GS","P",IF(H14="O","O","A"))))) -> P | I7: =IF(I14="M","P",IF(I14="E","P",IF(I14="N","P",IF(I14="GS","P",IF(I14="O","O","A"))))) -> P | ... AF7: =IF(AF14="M","P",IF(AF14="E","P",IF(AF14="N","P",IF(AF14="GS","P",IF(AF14="O","O","A"))))) -> O | AH7: present | AI7: =COUNTIF(B7:AF7,"P") -> 26
A8: InTime | B8: =IF(B14="M",TEXT(7.8/24+RAND()*(8.3/24-7.8/24),"HH:MM"),(IF(B14="E",TEXT(13.8/24+RAND()*(14.3/24-13.8/24),"HH:MM"),IF(B14="GS",TEXT(8.8/24+RAND()*(9.3/24-8.8/24),"HH:MM"),IF(B14="N",TEXT(19.8/24+RAND()*(20.3/24-19.8/24),"HH:MM"),""))))) -> 09:01 | C8: =IF(C14="M",TEXT(7.8/24+RAND()*(8.3/24-7.8/24),"HH:MM"),(IF(C14="E",TEXT(13.8/24+RAND()*(14.3/24-13.8/24),"HH:MM"),IF(C14="GS",TEXT(8.8/24+RAND()*(9.3/24-8.8/24),"HH:MM"),IF(C14="N",TEXT(19.8/24+RAND()*(20.3/24-19.8/24),"HH:MM"),""))))) -> 09:04 | D8: =IF(D14="M",TEXT(7.8/24+RAND()*(8.3/24-7.8/24),"HH:MM"),(IF(D14="E",TEXT(13.8/24+RAND()*(14.3/24-13.8/24),"HH:MM"),IF(D14="GS",TEXT(8.8/24+RAND()*(9.3/24-8.8/24),"HH:MM"),IF(D14="N",TEXT(19.8/24+RAND()*(20.3/24-19.8/24),"HH:MM"),""))))) | E8: =IF(E14="M",TEXT(7.8/24+RAND()*(8.3/24-7.8/24),"HH:MM"),(IF(E14="E",TEXT(13.8/24+RAND()*(14.3/24-13.8/24),"HH:MM"),IF(E14="GS",TEXT(8.8/24+RAND()*(9.3/24-8.8/24),"HH:MM"),IF(E14="N",TEXT(19.8/24+RAND()*(20.3/24-19.8/24),"HH:MM"),""))))) -> 09:10 | F8: =IF(F14="M",TEXT(7.8/24+RAND()*(8.3/24-7.8/24),"HH:MM"),(IF(F14="E",TEXT(13.8/24+RAND()*(14.3/24-13.8/24),"HH:MM"),IF(F14="GS",TEXT(8.8/24+RAND()*(9.3/24-8.8/24),"HH:MM"),IF(F14="N",TEXT(19.8/24+RAND()*(20.3/24-19.8/24),"HH:MM"),""))))) -> 08:52 | G8: =IF(G14="M",TEXT(7.8/24+RAND()*(8.3/24-7.8/24),"HH:MM"),(IF(G14="E",TEXT(13.8/24+RAND()*(14.3/24-13.8/24),"HH:MM"),IF(G14="GS",TEXT(8.8/24+RAND()*(9.3/24-8.8/24),"HH:MM"),IF(G14="N",TEXT(19.8/24+RAND()*(20.3/24-19.8/24),"HH:MM"),""))))) -> 09:04 | H8: =IF(H14="M",TEXT(7.8/24+RAND()*(8.3/24-7.8/24),"HH:MM"),(IF(H14="E",TEXT(13.8/24+RAND()*(14.3/24-13.8/24),"HH:MM"),IF(H14="GS",TEXT(8.8/24+RAND()*(9.3/24-8.8/24),"HH:MM"),IF(H14="N",TEXT(19.8/24+RAND()*(20.3/24-19.8/24),"HH:MM"),""))))) -> 09:16 | I8: =IF(I14="M",TEXT(7.8/24+RAND()*(8.3/24-7.8/24),"HH:MM"),(IF(I14="E",TEXT(13.8/24+RAND()*(14.3/24-13.8/24),"HH:MM"),IF(I14="GS",TEXT(8.8/24+RAND()*(9.3/24-8.8/24),"HH:MM"),IF(I14="N",TEXT(19.8/24+RAND()*(20.3/24-19.8/24),"HH:MM"),""))))) -> 08:58 | ... AF8: =IF(AF14="M",TEXT(7.8/24+RAND()*(8.3/24-7.8/24),"HH:MM"),(IF(AF14="E",TEXT(13.8/24+RAND()*(14.3/24-13.8/24),"HH:MM"),IF(AF14="GS",TEXT(8.8/24+RAND()*(9.3/24-8.8/24),"HH:MM"),IF(AF14="N",TEXT(19.8/24+RAND()*(20.3/24-19.8/24),"HH:MM"),""))))) | AH8: absent | AI8: =COUNTIF(B7:AF7,"A") -> 0
A9: OutTime | B9: =IF(B14="M",TEXT(17/24+RAND()*(17.3/24-17/24),"HH:MM"),(IF(B14="E",TEXT(20/24+RAND()*(20.3/24-20/24),"HH:MM"),IF(B14="N",TEXT(8/24+RAND()*(8.3/24-8/24),"HH:MM"),IF(B14="GS",TEXT(17/24+RAND()*(17.3/24-17/24),"HH:MM"),""))))) -> 17:11 | C9: =IF(C14="M",TEXT(17/24+RAND()*(17.3/24-17/24),"HH:MM"),(IF(C14="E",TEXT(20/24+RAND()*(20.3/24-20/24),"HH:MM"),IF(C14="N",TEXT(8/24+RAND()*(8.3/24-8/24),"HH:MM"),IF(C14="GS",TEXT(17/24+RAND()*(17.3/24-17/24),"HH:MM"),""))))) -> 17:07 | D9: =IF(D14="M",TEXT(17/24+RAND()*(17.3/24-17/24),"HH:MM"),(IF(D14="E",TEXT(20/24+RAND()*(20.3/24-20/24),"HH:MM"),IF(D14="N",TEXT(8/24+RAND()*(8.3/24-8/24),"HH:MM"),IF(D14="GS",TEXT(17/24+RAND()*(17.3/24-17/24),"HH:MM"),""))))) | E9: =IF(E14="M",TEXT(17/24+RAND()*(17.3/24-17/24),"HH:MM"),(IF(E14="E",TEXT(20/24+RAND()*(20.3/24-20/24),"HH:MM"),IF(E14="N",TEXT(8/24+RAND()*(8.3/24-8/24),"HH:MM"),IF(E14="GS",TEXT(17/24+RAND()*(17.3/24-17/24),"HH:MM"),""))))) -> 17:17 | F9: =IF(F14="M",TEXT(17/24+RAND()*(17.3/24-17/24),"HH:MM"),(IF(F14="E",TEXT(20/24+RAND()*(20.3/24-20/24),"HH:MM"),IF(F14="N",TEXT(8/24+RAND()*(8.3/24-8/24),"HH:MM"),IF(F14="GS",TEXT(17/24+RAND()*(17.3/24-17/24),"HH:MM"),""))))) -> 17:05 | G9: =IF(G14="M",TEXT(17/24+RAND()*(17.3/24-17/24),"HH:MM"),(IF(G14="E",TEXT(20/24+RAND()*(20.3/24-20/24),"HH:MM"),IF(G14="N",TEXT(8/24+RAND()*(8.3/24-8/24),"HH:MM"),IF(G14="GS",TEXT(17/24+RAND()*(17.3/24-17/24),"HH:MM"),""))))) -> 17:02 | H9: =IF(H14="M",TEXT(17/24+RAND()*(17.3/24-17/24),"HH:MM"),(IF(H14="E",TEXT(20/24+RAND()*(20.3/24-20/24),"HH:MM"),IF(H14="N",TEXT(8/24+RAND()*(8.3/24-8/24),"HH:MM"),IF(H14="GS",TEXT(17/24+RAND()*(17.3/24-17/24),"HH:MM"),""))))) -> 17:05 | I9: =IF(I14="M",TEXT(17/24+RAND()*(17.3/24-17/24),"HH:MM"),(IF(I14="E",TEXT(20/24+RAND()*(20.3/24-20/24),"HH:MM"),IF(I14="N",TEXT(8/24+RAND()*(8.3/24-8/24),"HH:MM"),IF(I14="GS",TEXT(17/24+RAND()*(17.3/24-17/24),"HH:MM"),""))))) -> 17:12 | ... AF9: =IF(AF14="M",TEXT(17/24+RAND()*(17.3/24-17/24),"HH:MM"),(IF(AF14="E",TEXT(20/24+RAND()*(20.3/24-20/24),"HH:MM"),IF(AF14="N",TEXT(8/24+RAND()*(8.3/24-8/24),"HH:MM"),IF(AF14="GS",TEXT(17/24+RAND()*(17.3/24-17/24),"HH:MM"),""))))) | AH9: WeekOFF | AI9: =COUNTIF(B14:AF14,"O") -> 5
A10: Duration | B10: =IF(B14="M",TEXT(B9-B8,"H:MM"),IF(B14="E",TEXT(B9-B8,"H:MM"),IF(B14="N",TEXT(B9+24-B8+30,"H:MM"),IF(B14="GS",TEXT(B9-B8,"H:MM"),"")))) -> 8:10 | C10: =IF(C14="M",TEXT(C9-C8,"H:MM"),IF(C14="E",TEXT(C9-C8,"H:MM"),IF(C14="N",TEXT(C9+24-C8+30,"H:MM"),IF(C14="GS",TEXT(C9-C8,"H:MM"),"")))) -> 8:03 | D10: =IF(D14="M",TEXT(D9-D8,"H:MM"),IF(D14="E",TEXT(D9-D8,"H:MM"),IF(D14="N",TEXT(D9+24-D8+30,"H:MM"),IF(D14="GS",TEXT(D9-D8,"H:MM"),"")))) | E10: =IF(E14="M",TEXT(E9-E8,"H:MM"),IF(E14="E",TEXT(E9-E8,"H:MM"),IF(E14="N",TEXT(E9+24-E8+30,"H:MM"),IF(E14="GS",TEXT(E9-E8,"H:MM"),"")))) -> 8:07 | F10: =IF(F14="M",TEXT(F9-F8,"H:MM"),IF(F14="E",TEXT(F9-F8,"H:MM"),IF(F14="N",TEXT(F9+24-F8+30,"H:MM"),IF(F14="GS",TEXT(F9-F8,"H:MM"),"")))) -> 8:13 | G10: =IF(G14="M",TEXT(G9-G8,"H:MM"),IF(G14="E",TEXT(G9-G8,"H:MM"),IF(G14="N",TEXT(G9+24-G8+30,"H:MM"),IF(G14="GS",TEXT(G9-G8,"H:MM"),"")))) -> 7:58 | H10: =IF(H14="M",TEXT(H9-H8,"H:MM"),IF(H14="E",TEXT(H9-H8,"H:MM"),IF(H14="N",TEXT(H9+24-H8+30,"H:MM"),IF(H14="GS",TEXT(H9-H8,"H:MM"),"")))) -> 7:49 | I10: =IF(I14="M",TEXT(I9-I8,"H:MM"),IF(I14="E",TEXT(I9-I8,"H:MM"),IF(I14="N",TEXT(I9+24-I8+30,"H:MM"),IF(I14="GS",TEXT(I9-I8,"H:MM"),"")))) -> 8:14 | ... AF10: =IF(AF14="M",TEXT(AF9-AF8,"H:MM"),IF(AF14="E",TEXT(AF9-AF8,"H:MM"),IF(AF14="N",TEXT(AF9+24-AF8+30,"H:MM"),IF(AF14="GS",TEXT(AF9-AF8,"H:MM"),"")))) | AH10: late by days | AI10: =COUNTIF(B11:AF11,(B11:AF11)>0) -> 0
A11: Late By | B11: =IF(AND(B14="GS",B16>$B$19),TEXT(B16-$B$19,"HH:MM"),IF(AND(B14="M",B16>$B$15),TEXT(B16-$B$15,"HH:MM"),IF(AND(B14="E",B16>$B$17),TEXT(B16-$B$17,"HH:MM"),IF(AND(B14="N",B16>$B$18),TEXT(B16-$B$18,"HH:MM"),IF(OR(B14="O",B14="A"),"",0))))) -> 00:01 | C11: =IF(AND(C14="GS",C16>$B$19),TEXT(C16-$B$19,"HH:MM"),IF(AND(C14="M",C16>$B$15),TEXT(C16-$B$15,"HH:MM"),IF(AND(C14="E",C16>$B$17),TEXT(C16-$B$17,"HH:MM"),IF(AND(C14="N",C16>$B$18),TEXT(C16-$B$18,"HH:MM"),IF(OR(C14="O",C14="A"),"",0))))) -> 00:04 | D11: =IF(AND(D14="GS",D16>$B$19),TEXT(D16-$B$19,"HH:MM"),IF(AND(D14="M",D16>$B$15),TEXT(D16-$B$15,"HH:MM"),IF(AND(D14="E",D16>$B$17),TEXT(D16-$B$17,"HH:MM"),IF(AND(D14="N",D16>$B$18),TEXT(D16-$B$18,"HH:MM"),IF(OR(D14="O",D14="A"),"",0))))) | E11: =IF(AND(E14="GS",E16>$B$19),TEXT(E16-$B$19,"HH:MM"),IF(AND(E14="M",E16>$B$15),TEXT(E16-$B$15,"HH:MM"),IF(AND(E14="E",E16>$B$17),TEXT(E16-$B$17,"HH:MM"),IF(AND(E14="N",E16>$B$18),TEXT(E16-$B$18,"HH:MM"),IF(OR(E14="O",E14="A"),"",0))))) -> 00:10 | F11: =IF(AND(F14="GS",F16>$B$19),TEXT(F16-$B$19,"HH:MM"),IF(AND(F14="M",F16>$B$15),TEXT(F16-$B$15,"HH:MM"),IF(AND(F14="E",F16>$B$17),TEXT(F16-$B$17,"HH:MM"),IF(AND(F14="N",F16>$B$18),TEXT(F16-$B$18,"HH:MM"),IF(OR(F14="O",F14="A"),"",0))))) -> 0 | G11: =IF(AND(G14="GS",G16>$B$19),TEXT(G16-$B$19,"HH:MM"),IF(AND(G14="M",G16>$B$15),TEXT(G16-$B$15,"HH:MM"),IF(AND(G14="E",G16>$B$17),TEXT(G16-$B$17,"HH:MM"),IF(AND(G14="N",G16>$B$18),TEXT(G16-$B$18,"HH:MM"),IF(OR(G14="O",G14="A"),"",0))))) -> 00:04 | H11: =IF(AND(H14="GS",H16>$B$19),TEXT(H16-$B$19,"HH:MM"),IF(AND(H14="M",H16>$B$15),TEXT(H16-$B$15,"HH:MM"),IF(AND(H14="E",H16>$B$17),TEXT(H16-$B$17,"HH:MM"),IF(AND(H14="N",H16>$B$18),TEXT(H16-$B$18,"HH:MM"),IF(OR(H14="O",H14="A"),"",0))))) -> 00:16 | I11: =IF(AND(I14="GS",I16>$B$19),TEXT(I16-$B$19,"HH:MM"),IF(AND(I14="M",I16>$B$15),TEXT(I16-$B$15,"HH:MM"),IF(AND(I14="E",I16>$B$17),TEXT(I16-$B$17,"HH:MM"),IF(AND(I14="N",I16>$B$18),TEXT(I16-$B$18,"HH:MM"),IF(OR(I14="O",I14="A"),"",0))))) -> 0 | ... AF11: =IF(AND(AF14="GS",AF16>$B$19),TEXT(AF16-$B$19,"HH:MM"),IF(AND(AF14="M",AF16>$B$15),TEXT(AF16-$B$15,"HH:MM"),IF(AND(AF14="E",AF16>$B$17),TEXT(AF16-$B$17,"HH:MM"),IF(AND(AF14="N",AF16>$B$18),TEXT(AF16-$B$18,"HH:MM"),IF(OR(AF14="O",AF14="A"),"",0)))))
A12: Early By
A13: OT
A14: Shift | B14: =Entry!B3 -> GS | C14: =Entry!C3 -> GS | D14: =Entry!D3 -> O | E14: =Entry!E3 -> GS | F14: =Entry!F3 -> GS | G14: =Entry!G3 -> GS | H14: =Entry!H3 -> GS | I14: =Entry!I3 -> GS | ... AF14: =Entry!AF3 -> O
A15: M | B15: 0.33333333
B16: =IF(OR(B14="O",B14="A"),"O ",VALUE(B8)) -> 0.37569444 | C16: =IF(OR(C14="O",C14="A"),"O ",VALUE(C8)) -> 0.37777778 | D16: =IF(OR(D14="O",D14="A"),"O ",VALUE(D8)) -> O | E16: =IF(OR(E14="O",E14="A"),"O ",VALUE(E8)) -> 0.38194444 | F16: =IF(OR(F14="O",F14="A"),"O ",VALUE(F8)) -> 0.36944444 | G16: =IF(OR(G14="O",G14="A"),"O ",VALUE(G8)) -> 0.37777778 | H16: =IF(OR(H14="O",H14="A"),"O ",VALUE(H8)) -> 0.38611111 | I16: =IF(OR(I14="O",I14="A"),"O ",VALUE(I8)) -> 0.37361111 | ... AF16: =IF(OR(AF14="O",AF14="A"),"O ",VALUE(AF8)) -> O
A17: E | B17: 0.58333333
A18: N | B18: 0.83333333
A19: GS | B19: 0.375
A20: Late | B20: =IF(OR(B14="O",B14="A"),0,VALUE(B11)) -> 0.00069444444 | C20: =IF(OR(C14="O",C14="A"),0,VALUE(C11)) -> 0.0027777778 | D20: =IF(OR(D14="O",D14="A"),0,VALUE(D11)) -> 0 | E20: =IF(OR(E14="O",E14="A"),0,VALUE(E11)) -> 0.0069444444 | F20: =IF(OR(F14="O",F14="A"),0,VALUE(F11)) -> 0 | G20: =IF(OR(G14="O",G14="A"),0,VALUE(G11)) -> 0.0027777778 | H20: =IF(OR(H14="O",H14="A"),0,VALUE(H11)) -> 0.011111111 | I20: =IF(OR(I14="O",I14="A"),0,VALUE(I11)) -> 0 | ... AF20: =IF(OR(AF14="O",AF14="A"),0,VALUE(AF11)) -> 0 | AH20: =SUM(B20:AF20) -> 0.089583333
B21: =IF(OR(B14="O",B14="A"),0,VALUE(B10)) -> 0.34027778 | C21: =IF(OR(C14="O",C14="A"),0,VALUE(C10)) -> 0.33541667 | D21: =IF(OR(D14="O",D14="A"),0,VALUE(D10)) -> 0 | E21: =IF(OR(E14="O",E14="A"),0,VALUE(E10)) -> 0.33819444 | F21: =IF(OR(F14="O",F14="A"),0,VALUE(F10)) -> 0.34236111 | G21: =IF(OR(G14="O",G14="A"),0,VALUE(G10)) -> 0.33194444 | H21: =IF(OR(H14="O",H14="A"),0,VALUE(H10)) -> 0.32569444 | I21: =IF(OR(I14="O",I14="A"),0,VALUE(I10)) -> 0.34305556 | ... AF21: =IF(OR(AF14="O",AF14="A"),0,VALUE(AF10)) -> 0 | AH21: =SUM(B21:AF21) -> 8.7666667
A24: =Entry!A4 -> DR. SURAJ SAO | H24: Total Work Duration: | L24: =AH40 -> 9.1055556 | M24: Hrs. | N24: Total OT: | P24: 0 | Q24: Hrs | R24: Present: | T24: =AI26 -> 27 | U24: Absent: | W24: =AI27 -> 0 | X24: WeeklyOff: | Z24: =AI28 -> 4 | AA24: Holidays: 0 Leaves Taken:0
H25: Late By Hrs: | K25: =AH39 -> 0.095833333 | L25: Late By Days: | N25: 0
A26: Status | B26: =IF(B33="M","P",IF(B33="E","P",IF(B33="N","P",IF(B33="GS","P",IF(B33="O","O","A"))))) -> P | C26: =IF(C33="M","P",IF(C33="E","P",IF(C33="N","P",IF(C33="GS","P",IF(C33="O","O","A"))))) -> P | D26: =IF(D33="M","P",IF(D33="E","P",IF(D33="N","P",IF(D33="GS","P",IF(D33="O","O","A"))))) -> P | E26: =IF(E33="M","P",IF(E33="E","P",IF(E33="N","P",IF(E33="GS","P",IF(E33="O","O","A"))))) -> P | F26: =IF(F33="M","P",IF(F33="E","P",IF(F33="N","P",IF(F33="GS","P",IF(F33="O","O","A"))))) -> O | G26: =IF(G33="M","P",IF(G33="E","P",IF(G33="N","P",IF(G33="GS","P",IF(G33="O","O","A"))))) -> P | H26: =IF(H33="M","P",IF(H33="E","P",IF(H33="N","P",IF(H33="GS","P",IF(H33="O","O","A"))))) -> P | I26: =IF(I33="M","P",IF(I33="E","P",IF(I33="N","P",IF(I33="GS","P",IF(I33="O","O","A"))))) -> P | ... AF26: =IF(AF33="M","P",IF(AF33="E","P",IF(AF33="N","P",IF(AF33="GS","P",IF(AF33="O","O","A"))))) -> P | AH26: present | AI26: =COUNTIF(B26:AF26,"P") -> 27
A27: InTime | B27: =IF(B33="M",TEXT(7.8/24+RAND()*(8.3/24-7.8/24),"HH:MM"),(IF(B33="E",TEXT(13.8/24+RAND()*(14.3/24-13.8/24),"HH:MM"),IF(B33="GS",TEXT(8.8/24+RAND()*(9.3/24-8.8/24),"HH:MM"),IF(B33="N",TEXT(19.8/24+RAND()*(20.3/24-19.8/24),"HH:MM"),""))))) -> 09:17 | C27: =IF(C33="M",TEXT(7.8/24+RAND()*(8.3/24-7.8/24),"HH:MM"),(IF(C33="E",TEXT(13.8/24+RAND()*(14.3/24-13.8/24),"HH:MM"),IF(C33="GS",TEXT(8.8/24+RAND()*(9.3/24-8.8/24),"HH:MM"),IF(C33="N",TEXT(19.8/24+RAND()*(20.3/24-19.8/24),"HH:MM"),""))))) -> 09:15 | D27: =IF(D33="M",TEXT(7.8/24+RAND()*(8.3/24-7.8/24),"HH:MM"),(IF(D33="E",TEXT(13.8/24+RAND()*(14.3/24-13.8/24),"HH:MM"),IF(D33="GS",TEXT(8.8/24+RAND()*(9.3/24-8.8/24),"HH:MM"),IF(D33="N",TEXT(19.8/24+RAND()*(20.3/24-19.8/24),"HH:MM"),""))))) -> 09:00 | E27: =IF(E33="M",TEXT(7.8/24+RAND()*(8.3/24-7.8/24),"HH:MM"),(IF(E33="E",TEXT(13.8/24+RAND()*(14.3/24-13.8/24),"HH:MM"),IF(E33="GS",TEXT(8.8/24+RAND()*(9.3/24-8.8/24),"HH:MM"),IF(E33="N",TEXT(19.8/24+RAND()*(20.3/24-19.8/24),"HH:MM"),""))))) -> 08:52 | F27: =IF(F33="M",TEXT(7.8/24+RAND()*(8.3/24-7.8/24),"HH:MM"),(IF(F33="E",TEXT(13.8/24+RAND()*(14.3/24-13.8/24),"HH:MM"),IF(F33="GS",TEXT(8.8/24+RAND()*(9.3/24-8.8/24),"HH:MM"),IF(F33="N",TEXT(19.8/24+RAND()*(20.3/24-19.8/24),"HH:MM"),""))))) | G27: =IF(G33="M",TEXT(7.8/24+RAND()*(8.3/24-7.8/24),"HH:MM"),(IF(G33="E",TEXT(13.8/24+RAND()*(14.3/24-13.8/24),"HH:MM"),IF(G33="GS",TEXT(8.8/24+RAND()*(9.3/24-8.8/24),"HH:MM"),IF(G33="N",TEXT(19.8/24+RAND()*(20.3/24-19.8/24),"HH:MM"),""))))) -> 09:17 | H27: =IF(H33="M",TEXT(7.8/24+RAND()*(8.3/24-7.8/24),"HH:MM"),(IF(H33="E",TEXT(13.8/24+RAND()*(14.3/24-13.8/24),"HH:MM"),IF(H33="GS",TEXT(8.8/24+RAND()*(9.3/24-8.8/24),"HH:MM"),IF(H33="N",TEXT(19.8/24+RAND()*(20.3/24-19.8/24),"HH:MM"),""))))) -> 09:16 | I27: =IF(I33="M",TEXT(7.8/24+RAND()*(8.3/24-7.8/24),"HH:MM"),(IF(I33="E",TEXT(13.8/24+RAND()*(14.3/24-13.8/24),"HH:MM"),IF(I33="GS",TEXT(8.8/24+RAND()*(9.3/24-8.8/24),"HH:MM"),IF(I33="N",TEXT(19.8/24+RAND()*(20.3/24-19.8/24),"HH:MM"),""))))) -> 09:11 | ... AF27: =IF(AF33="M",TEXT(7.8/24+RAND()*(8.3/24-7.8/24),"HH:MM"),(IF(AF33="E",TEXT(13.8/24+RAND()*(14.3/24-13.8/24),"HH:MM"),IF(AF33="GS",TEXT(8.8/24+RAND()*(9.3/24-8.8/24),"HH:MM"),IF(AF33="N",TEXT(19.8/24+RAND()*(20.3/24-19.8/24),"HH:MM"),""))))) -> 08:50 | AH27: absent | AI27: =COUNTIF(B26:AF26,"A") -> 0
A28: OutTime | B28: =IF(B33="M",TEXT(17/24+RAND()*(17.3/24-17/24),"HH:MM"),(IF(B33="E",TEXT(20/24+RAND()*(20.3/24-20/24),"HH:MM"),IF(B33="N",TEXT(8/24+RAND()*(8.3/24-8/24),"HH:MM"),IF(B33="GS",TEXT(17/24+RAND()*(17.3/24-17/24),"HH:MM"),""))))) -> 17:06 | C28: =IF(C33="M",TEXT(17/24+RAND()*(17.3/24-17/24),"HH:MM"),(IF(C33="E",TEXT(20/24+RAND()*(20.3/24-20/24),"HH:MM"),IF(C33="N",TEXT(8/24+RAND()*(8.3/24-8/24),"HH:MM"),IF(C33="GS",TEXT(17/24+RAND()*(17.3/24-17/24),"HH:MM"),""))))) -> 17:01 | D28: =IF(D33="M",TEXT(17/24+RAND()*(17.3/24-17/24),"HH:MM"),(IF(D33="E",TEXT(20/24+RAND()*(20.3/24-20/24),"HH:MM"),IF(D33="N",TEXT(8/24+RAND()*(8.3/24-8/24),"HH:MM"),IF(D33="GS",TEXT(17/24+RAND()*(17.3/24-17/24),"HH:MM"),""))))) -> 17:01 | E28: =IF(E33="M",TEXT(17/24+RAND()*(17.3/24-17/24),"HH:MM"),(IF(E33="E",TEXT(20/24+RAND()*(20.3/24-20/24),"HH:MM"),IF(E33="N",TEXT(8/24+RAND()*(8.3/24-8/24),"HH:MM"),IF(E33="GS",TEXT(17/24+RAND()*(17.3/24-17/24),"HH:MM"),""))))) -> 17:11 | F28: =IF(F33="M",TEXT(17/24+RAND()*(17.3/24-17/24),"HH:MM"),(IF(F33="E",TEXT(20/24+RAND()*(20.3/24-20/24),"HH:MM"),IF(F33="N",TEXT(8/24+RAND()*(8.3/24-8/24),"HH:MM"),IF(F33="GS",TEXT(17/24+RAND()*(17.3/24-17/24),"HH:MM"),""))))) | G28: =IF(G33="M",TEXT(17/24+RAND()*(17.3/24-17/24),"HH:MM"),(IF(G33="E",TEXT(20/24+RAND()*(20.3/24-20/24),"HH:MM"),IF(G33="N",TEXT(8/24+RAND()*(8.3/24-8/24),"HH:MM"),IF(G33="GS",TEXT(17/24+RAND()*(17.3/24-17/24),"HH:MM"),""))))) -> 17:11 | H28: =IF(H33="M",TEXT(17/24+RAND()*(17.3/24-17/24),"HH:MM"),(IF(H33="E",TEXT(20/24+RAND()*(20.3/24-20/24),"HH:MM"),IF(H33="N",TEXT(8/24+RAND()*(8.3/24-8/24),"HH:MM"),IF(H33="GS",TEXT(17/24+RAND()*(17.3/24-17/24),"HH:MM"),""))))) -> 17:12 | I28: =IF(I33="M",TEXT(17/24+RAND()*(17.3/24-17/24),"HH:MM"),(IF(I33="E",TEXT(20/24+RAND()*(20.3/24-20/24),"HH:MM"),IF(I33="N",TEXT(8/24+RAND()*(8.3/24-8/24),"HH:MM"),IF(I33="GS",TEXT(17/24+RAND()*(17.3/24-17/24),"HH:MM"),""))))) -> 17:08 | ... AF28: =IF(AF33="M",TEXT(17/24+RAND()*(17.3/24-17/24),"HH:MM"),(IF(AF33="E",TEXT(20/24+RAND()*(20.3/24-20/24),"HH:MM"),IF(AF33="N",TEXT(8/24+RAND()*(8.3/24-8/24),"HH:MM"),IF(AF33="GS",TEXT(17/24+RAND()*(17.3/24-17/24),"HH:MM"),""))))) -> 17:04 | AH28: WeekOFF | AI28: =COUNTIF(B33:AF33,"O") -> 4
A29: Duration | B29: =IF(B33="M",TEXT(B28-B27,"H:MM"),IF(B33="E",TEXT(B28-B27,"H:MM"),IF(B33="N",TEXT(B28+24-B27+30,"H:MM"),IF(B33="GS",TEXT(B28-B27,"H:MM"),"")))) -> 7:49 | C29: =IF(C33="M",TEXT(C28-C27,"H:MM"),IF(C33="E",TEXT(C28-C27,"H:MM"),IF(C33="N",TEXT(C28+24-C27+30,"H:MM"),IF(C33="GS",TEXT(C28-C27,"H:MM"),"")))) -> 7:46 | D29: =IF(D33="M",TEXT(D28-D27,"H:MM"),IF(D33="E",TEXT(D28-D27,"H:MM"),IF(D33="N",TEXT(D28+24-D27+30,"H:MM"),IF(D33="GS",TEXT(D28-D27,"H:MM"),"")))) -> 8:01 | E29: =IF(E33="M",TEXT(E28-E27,"H:MM"),IF(E33="E",TEXT(E28-E27,"H:MM"),IF(E33="N",TEXT(E28+24-E27+30,"H:MM"),IF(E33="GS",TEXT(E28-E27,"H:MM"),"")))) -> 8:19 | F29: =IF(F33="M",TEXT(F28-F27,"H:MM"),IF(F33="E",TEXT(F28-F27,"H:MM"),IF(F33="N",TEXT(F28+24-F27+30,"H:MM"),IF(F33="GS",TEXT(F28-F27,"H:MM"),"")))) | G29: =IF(G33="M",TEXT(G28-G27,"H:MM"),IF(G33="E",TEXT(G28-G27,"H:MM"),IF(G33="N",TEXT(G28+24-G27+30,"H:MM"),IF(G33="GS",TEXT(G28-G27,"H:MM"),"")))) -> 7:54 | H29: =IF(H33="M",TEXT(H28-H27,"H:MM"),IF(H33="E",TEXT(H28-H27,"H:MM"),IF(H33="N",TEXT(H28+24-H27+30,"H:MM"),IF(H33="GS",TEXT(H28-H27,"H:MM"),"")))) -> 7:56 | I29: =IF(I33="M",TEXT(I28-I27,"H:MM"),IF(I33="E",TEXT(I28-I27,"H:MM"),IF(I33="N",TEXT(I28+24-I27+30,"H:MM"),IF(I33="GS",TEXT(I28-I27,"H:MM"),"")))) -> 7:57 | ... AF29: =IF(AF33="M",TEXT(AF28-AF27,"H:MM"),IF(AF33="E",TEXT(AF28-AF27,"H:MM"),IF(AF33="N",TEXT(AF28+24-AF27+30,"H:MM"),IF(AF33="GS",TEXT(AF28-AF27,"H:MM"),"")))) -> 8:14 | AH29: late by days | AI29: =COUNTIF(B30:AF30,(B30:AF30)>0) -> 0
A30: Late By | B30: =IF(AND(B33="GS",B35>$B$19),TEXT(B35-$B$19,"HH:MM"),IF(AND(B33="M",B35>$B$15),TEXT(B35-$B$15,"HH:MM"),IF(AND(B33="E",B35>$B$17),TEXT(B35-$B$17,"HH:MM"),IF(AND(B33="N",B35>$B$18),TEXT(B35-$B$18,"HH:MM"),IF(OR(B33="O",B33="A"),"",0))))) -> 00:17 | C30: =IF(AND(C33="GS",C35>$B$19),TEXT(C35-$B$19,"HH:MM"),IF(AND(C33="M",C35>$B$15),TEXT(C35-$B$15,"HH:MM"),IF(AND(C33="E",C35>$B$17),TEXT(C35-$B$17,"HH:MM"),IF(AND(C33="N",C35>$B$18),TEXT(C35-$B$18,"HH:MM"),IF(OR(C33="O",C33="A"),"",0))))) -> 00:15 | D30: =IF(AND(D33="GS",D35>$B$19),TEXT(D35-$B$19,"HH:MM"),IF(AND(D33="M",D35>$B$15),TEXT(D35-$B$15,"HH:MM"),IF(AND(D33="E",D35>$B$17),TEXT(D35-$B$17,"HH:MM"),IF(AND(D33="N",D35>$B$18),TEXT(D35-$B$18,"HH:MM"),IF(OR(D33="O",D33="A"),"",0))))) -> 0 | E30: =IF(AND(E33="GS",E35>$B$19),TEXT(E35-$B$19,"HH:MM"),IF(AND(E33="M",E35>$B$15),TEXT(E35-$B$15,"HH:MM"),IF(AND(E33="E",E35>$B$17),TEXT(E35-$B$17,"HH:MM"),IF(AND(E33="N",E35>$B$18),TEXT(E35-$B$18,"HH:MM"),IF(OR(E33="O",E33="A"),"",0))))) -> 0 | F30: =IF(AND(F33="GS",F35>$B$19),TEXT(F35-$B$19,"HH:MM"),IF(AND(F33="M",F35>$B$15),TEXT(F35-$B$15,"HH:MM"),IF(AND(F33="E",F35>$B$17),TEXT(F35-$B$17,"HH:MM"),IF(AND(F33="N",F35>$B$18),TEXT(F35-$B$18,"HH:MM"),IF(OR(F33="O",F33="A"),"",0))))) | G30: =IF(AND(G33="GS",G35>$B$19),TEXT(G35-$B$19,"HH:MM"),IF(AND(G33="M",G35>$B$15),TEXT(G35-$B$15,"HH:MM"),IF(AND(G33="E",G35>$B$17),TEXT(G35-$B$17,"HH:MM"),IF(AND(G33="N",G35>$B$18),TEXT(G35-$B$18,"HH:MM"),IF(OR(G33="O",G33="A"),"",0))))) -> 00:17 | H30: =IF(AND(H33="GS",H35>$B$19),TEXT(H35-$B$19,"HH:MM"),IF(AND(H33="M",H35>$B$15),TEXT(H35-$B$15,"HH:MM"),IF(AND(H33="E",H35>$B$17),TEXT(H35-$B$17,"HH:MM"),IF(AND(H33="N",H35>$B$18),TEXT(H35-$B$18,"HH:MM"),IF(OR(H33="O",H33="A"),"",0))))) -> 00:16 | I30: =IF(AND(I33="GS",I35>$B$19),TEXT(I35-$B$19,"HH:MM"),IF(AND(I33="M",I35>$B$15),TEXT(I35-$B$15,"HH:MM"),IF(AND(I33="E",I35>$B$17),TEXT(I35-$B$17,"HH:MM"),IF(AND(I33="N",I35>$B$18),TEXT(I35-$B$18,"HH:MM"),IF(OR(I33="O",I33="A"),"",0))))) -> 00:11 | ... AF30: =IF(AND(AF33="GS",AF35>$B$19),TEXT(AF35-$B$19,"HH:MM"),IF(AND(AF33="M",AF35>$B$15),TEXT(AF35-$B$15,"HH:MM"),IF(AND(AF33="E",AF35>$B$17),TEXT(AF35-$B$17,"HH:MM"),IF(AND(AF33="N",AF35>$B$18),TEXT(AF35-$B$18,"HH:MM"),IF(OR(AF33="O",AF33="A"),"",0))))) -> 0
A31: Early By
A32: OT
A33: Shift | B33: =Entry!B4 -> GS | C33: =Entry!C4 -> GS | D33: =Entry!D4 -> GS | E33: =Entry!E4 -> GS | F33: =Entry!F4 -> O | G33: =Entry!G4 -> GS | H33: =Entry!H4 -> GS | I33: =Entry!I4 -> GS | ... AF33: =Entry!AF4 -> GS
A34: M | B34: 0.33333333
B35: =IF(OR(B33="O",B33="A"),"O ",VALUE(B27)) -> 0.38680556 | C35: =IF(OR(C33="O",C33="A"),"O ",VALUE(C27)) -> 0.38541667 | D35: =IF(OR(D33="O",D33="A"),"O ",VALUE(D27)) -> 0.375 | E35: =IF(OR(E33="O",E33="A"),"O ",VALUE(E27)) -> 0.36944444 | F35: =IF(OR(F33="O",F33="A"),"O ",VALUE(F27)) -> O | G35: =IF(OR(G33="O",G33="A"),"O ",VALUE(G27)) -> 0.38680556 | H35: =IF(OR(H33="O",H33="A"),"O ",VALUE(H27)) -> 0.38611111 | I35: =IF(OR(I33="O",I33="A"),"O ",VALUE(I27)) -> 0.38263889 | ... AF35: =IF(OR(AF33="O",AF33="A"),"O ",VALUE(AF27)) -> 0.36805556
A36: E | B36: 0.58333333
A37: N | B37: 0.83333333
A38: GS | B38: 0.375
A39: Late | B39: =IF(OR(B33="O",B33="A"),0,VALUE(B30)) -> 0.011805556 | C39: =IF(OR(C33="O",C33="A"),0,VALUE(C30)) -> 0.010416667 | D39: =IF(OR(D33="O",D33="A"),0,VALUE(D30)) -> 0 | E39: =IF(OR(E33="O",E33="A"),0,VALUE(E30)) -> 0 | F39: =IF(OR(F33="O",F33="A"),0,VALUE(F30)) -> 0 | G39: =IF(OR(G33="O",G33="A"),0,VALUE(G30)) -> 0.011805556 | H39: =IF(OR(H33="O",H33="A"),0,VALUE(H30)) -> 0.011111111 | I39: =IF(OR(I33="O",I33="A"),0,VALUE(I30)) -> 0.0076388889 | ... AF39: =IF(OR(AF33="O",AF33="A"),0,VALUE(AF30)) -> 0 | AH39: =SUM(B39:AF39) -> 0.095833333
B40: =IF(OR(B33="O",B33="A"),0,VALUE(B29)) -> 0.32569444 | C40: =IF(OR(C33="O",C33="A"),0,VALUE(C29)) -> 0.32361111 | D40: =IF(OR(D33="O",D33="A"),0,VALUE(D29)) -> 0.33402778 | E40: =IF(OR(E33="O",E33="A"),0,VALUE(E29)) -> 0.34652778 | F40: =IF(OR(F33="O",F33="A"),0,VALUE(F29)) -> 0 | G40: =IF(OR(G33="O",G33="A"),0,VALUE(G29)) -> 0.32916667 | H40: =IF(OR(H33="O",H33="A"),0,VALUE(H29)) -> 0.33055556 | I40: =IF(OR(I33="O",I33="A"),0,VALUE(I29)) -> 0.33125 | ... AF40: =IF(OR(AF33="O",AF33="A"),0,VALUE(AF29)) -> 0.34305556 | AH40: =SUM(B40:AF40) -> 9.1055556
A45: =Entry!A5 -> DR. PANKAJ VERMA | H45: Total Work Duration: | L45: =AH61 -> 8.8298611 | M45: Hrs. | N45: Total OT: | P45: 0 | Q45: Hrs | R45: Present: | T45: =AI47 -> 26 | U45: Absent: | W45: =AI48 -> 0 | X45: WeeklyOff: | Z45: =AI49 -> 5 | AA45: Holidays: 0 Leaves Taken:0
H46: Late By Hrs: | K46: =AH60 -> 0.051388889 | L46: Late By Days: | N46: 0
A47: Status | B47: =IF(B54="M","P",IF(B54="E","P",IF(B54="N","P",IF(B54="GS","P",IF(B54="O","O","A"))))) -> P | C47: =IF(C54="M","P",IF(C54="E","P",IF(C54="N","P",IF(C54="GS","P",IF(C54="O","O","A"))))) -> P | D47: =IF(D54="M","P",IF(D54="E","P",IF(D54="N","P",IF(D54="GS","P",IF(D54="O","O","A"))))) -> O | E47: =IF(E54="M","P",IF(E54="E","P",IF(E54="N","P",IF(E54="GS","P",IF(E54="O","O","A"))))) -> P | F47: =IF(F54="M","P",IF(F54="E","P",IF(F54="N","P",IF(F54="GS","P",IF(F54="O","O","A"))))) -> P | G47: =IF(G54="M","P",IF(G54="E","P",IF(G54="N","P",IF(G54="GS","P",IF(G54="O","O","A"))))) -> P | H47: =IF(H54="M","P",IF(H54="E","P",IF(H54="N","P",IF(H54="GS","P",IF(H54="O","O","A"))))) -> P | I47: =IF(I54="M","P",IF(I54="E","P",IF(I54="N","P",IF(I54="GS","P",IF(I54="O","O","A"))))) -> P | ... AF47: =IF(AF54="M","P",IF(AF54="E","P",IF(AF54="N","P",IF(AF54="GS","P",IF(AF54="O","O","A"))))) -> O | AH47: present | AI47: =COUNTIF(B47:AF47,"P") -> 26
...
