Workbook

Sheet Entry
A2: Days | B2: SA | C2: S | D2: M | E2: T | F2: W | G2: TH | H2: F | I2: SA | J2: S | K2: M | L2: T | M2: W | N2: TH | O2: F | P2: SA | Q2: S | R2: M | S2: T | T2: W | U2: TH | V2: F | W2: SA | X2: S | Y2: M | Z2: T | AA2: W | AB2: TH | AC2: F | AD2: SA | AE2: S | AF2: M
A3: DR. ASHWANI PRADHAN | B3: GS | C3: GS | D3: O | E3: GS | F3: GS | G3: GS | H3: GS | I3: GS | J3: GS | K3: O | L3: GS | M3: GS | N3: GS | O3: GS | P3: GS | Q3: GS | R3: O | S3: GS | T3: GS | U3: GS | V3: GS | W3: GS | X3: GS | Y3: O | Z3: GS | AA3: GS | AB3: GS | AC3: GS | AD3: GS | AE3: GS | AF3: O
A4: DR. SURAJ SAO | B4: GS | C4: GS | D4: GS | E4: GS | F4: O | G4: GS | H4: GS | I4: GS | J4: GS | K4: GS | L4: GS | M4: O | N4: GS | O4: GS | P4: GS | Q4: GS | R4: GS | S4: GS | T4: O | U4: GS | V4: GS | W4: GS | X4: GS | Y4: GS | Z4: GS | AA4: O | AB4: GS | AC4: GS | AD4: GS | AE4: GS | AF4: GS
A5: DR. PANKAJ VERMA | B5: GS | C5: GS | D5: O | E5: GS | F5: GS | G5: GS | H5: GS | I5: GS | J5: GS | K5: O | L5: GS | M5: GS | N5: GS | O5: GS | P5: GS | Q5: GS | R5: O | S5: GS | T5: GS | U5: GS | V5: GS | W5: GS | X5: GS | Y5: O | Z5: GS | AA5: GS | AB5: GS | AC5: GS | AD5: GS | AE5: GS | AF5: O
A6: DR. SANJANA DEBNATH | B6: GS | C6: GS | D6: O | E6: GS | F6: GS | G6: GS | H6: GS | I6: GS | J6: GS | K6: O | L6: GS | M6: GS | N6: GS | O6: GS | P6: GS | Q6: GS | R6: O | S6: GS | T6: GS | U6: GS | V6: GS | W6: GS | X6: GS | Y6: O | Z6: GS | AA6: GS | AB6: GS | AC6: GS | AD6: GS | AE6: GS | AF6: O
A7: DR. JAYA SINGH KHARSON | B7: GS | C7: GS | D7: O | E7: GS | F7: GS | G7: GS | H7: GS | I7: GS | J7: GS | K7: O | L7: GS | M7: GS | N7: GS | O7: GS | P7: GS | Q7: GS | R7: O | S7: GS | T7: GS | U7: GS | V7: GS | W7: GS | X7: GS | Y7: O | Z7: GS | AA7: GS | AB7: GS | AC7: GS | AD7: GS | AE7: GS | AF7: O
A8: DR. RAHUL SINGH | B8: GS | C8: GS | D8: O | E8: GS | F8: GS | G8: GS | H8: GS | I8: GS | J8: GS | K8: O | L8: GS | M8: GS | N8: GS | O8: GS | P8: GS | Q8: GS | R8: O | S8: GS | T8: GS | U8: GS | V8: GS | W8: GS | X8: GS | Y8: O | Z8: GS | AA8: GS | AB8: GS | AC8: GS | AD8: GS | AE8: GS | AF8: O
A9: DR. SONIA SINGH | B9: GS | C9: GS | D9: O | E9: GS | F9: GS | G9: GS | H9: GS | I9: GS | J9: GS | K9: O | L9: GS | M9: GS | N9: GS | O9: GS | P9: GS | Q9: GS | R9: O | S9: GS | T9: GS | U9: GS | V9: GS | W9: GS | X9: GS | Y9: O | Z9: GS | AA9: GS | AB9: GS | AC9: GS | AD9: GS | AE9: GS | AF9: O
A10: DR. AKANSHA PURI | B10: GS | C10: GS | D10: O | E10: GS | F10: GS | G10: GS | H10: GS | I10: GS | J10: GS | K10: O | L10: GS | M10: GS | N10: GS | O10: GS | P10: GS | Q10: GS | R10: O | S10: GS | T10: GS | U10: GS | V10: GS | W10: GS | X10: GS | Y10: O | Z10: GS | AA10: GS | AB10: GS | AC10: GS | AD10: GS | AE10: GS | AF10: O
A11: DR. NAMITA PATEL | B11: O | C11: GS | D11: O | E11: GS | F11: GS | G11: GS | H11: GS | I11: GS | J11: GS | K11: O | L11: GS | M11: GS | N11: GS | O11: GS | P11: GS | Q11: GS | R11: O | S11: GS | T11: GS | U11: GS | V11: GS | W11: GS | X11: GS | Y11: O | Z11: GS | AA11: GS | AB11: GS | AC11: GS | AD11: GS | AE11: GS | AF11: O
A12: DR. VIBHA SEN | B12: GS | C12: GS | D12: O | E12: GS | F12: GS | G12: GS | H12: GS | I12: GS | J12: GS | K12: O | L12: GS | M12: GS | N12: GS | O12: GS | P12: GS | Q12: GS | R12: O | S12: GS | T12: GS | U12: GS | V12: GS | W12: GS | X12: GS | Y12: O | Z12: GS | AA12: GS | AB12: GS | AC12: GS | AD12: GS | AE12: GS | AF12: O
A13: DR. VINITA MAYANK GUPTA | B13: O | C13: O | D13: M | E13: O | F13: M | G13: M | H13: M | I13: M | J13: M | K13: M | L13: O | M13: E | N13: E | O13: E | P13: E | Q13: E | R13: E | S13: O | T13: E | U13: E | V13: N | W13: E | X13: E | Y13: E | Z13: O | AA13: E | AB13: E | AC13: M | AD13: M | AE13: M | AF13: M
... A114: Ms. Samari Sarthi | B114: M | C114: M | D114: M | E114: M | F114: M | G114: O | H114: M | I114: M | J114: M | K114: M | L114: M | M114: M | N114: O | O114: M | P114: M | Q114: M | R114: M | S114: M | T114: M | U114: O | V114: M | W114: M | X114: M | Y114: M | Z114: M | AA114: M | AB114: O | AC114: M | AD114: M | AE114: M | AF114: M

Sheet Main
A1: RAIGARH MEDICAL COLLEGE & HOSPITAL OF AYURVEDA
A3: Days | B3: 1F | C3: 2ST | D3: 3S | E3: 4M | F3: 5T | G3: 6W | H3: 7TH | I3: 8F | J3: 9ST | K3: 10S | L3: 11M | M3: 12T | N3: 13W | O3: 14TH | P3: 15F | Q3: 16ST | R3: 17S | S3: 18M | T3: 19T | U3: 20W | V3: 21TH | W3: 22F | X3: 23ST | Y3: 24S | Z3: 25M | AA3: 26T | AB3: 27W | AC3: 28TH | AD3: 29F | AE3: 30ST | AF3: 31S
A4: Department: Default
A5: =Entry!A3 -> DR. ASHWANI PRADHAN | H5: Total Work Duration: | L5: =AH21 -> 8.7666667 | M5: Hrs. | N5: Total OT: | P5: 0 | Q5: Hrs | R5: Present: | T5: =AI7 -> 26 | U5: Absent: | W5: =AI8 -> 0 | X5: WeeklyOff: | Z5: =AI9 -> 5 | AA5: Holidays: 0 Leaves Taken:0
H6: Late By Hrs: | K6: =AH20 -> 0.089583333 | L6: Late By Days: | N6: 0
A7: Status | B7: =IF(B14="M","P",IF(B14="E","P",IF(B14="N","P",IF(B14="GS","P",IF(B14="O","O","A"))))) -> P | C7: =IF(C14="M","P",IF(C14="E","P",IF(C14="N","P",IF(C14="GS","P",IF(C14="O","O","A"))))) -> P | D7: =IF(D14="M","P",IF(D14="E","P",IF(D14="N","P",IF(D14="GS","P",IF(D14="O","O","A"))))) -> O | E7: =IF(E14="M","P",IF(E14="E","P",IF(E14="N","P",IF(E14="GS","P",IF(E14="O","O","A"))))) -> P | F7: =IF(F14="M","P",IF(F14="E","P",IF(F14="N","P",IF(F14="GS","P",IF(F14="O","O","A"))))) -> P | G7: =IF(G14="M","P",IF(G14="E","P",IF(G14="N","P",IF(G14="GS","P",IF(G14="O","O","A"))))) -> P | H7: =IF(H14="M","P",IF(H14="E","P",IF(H14="N","P",IF(H14="GS","P",IF(H14="O","O","A"))))) -> P | I7: =IF(I14="M","P",IF(I14="E","P",IF(I14="N","P",IF(I14="GS","P",IF(I14="O","O","A"))))) -> P | ... AF7: =IF(AF14="M","P",IF(AF14="E","P",IF(AF14="N","P",IF(AF14="GS","P",IF(AF14="O","O","A"))))) -> O | AH7: present | AI7: =COUNTIF(B7:AF7,"P") -> 26
A8: InTime | B8: =IF(B14="M",TEXT(7.8/24+RAND()*(8.3/24-7.8/24),"HH:MM"),(IF(B14="E",TEXT(13.8/24+RAND()*(14.3/24-13.8/24),"HH:MM"),IF(B14="GS",TEXT(8.8/24+RAND()*(9.3/24-8.8/24),"HH:MM"),IF(B14="N",TEXT(19.8/24+RAND()*(20.3/24-19.8/24),"HH:MM"),""))))) -> 09:01 | C8: =IF(C14="M",TEXT(7.8/24+RAND()*(8.3/24-7.8/24),"HH:MM"),(IF(C14="E",TEXT(13.8/24+RAND()*(14.3/24-13.8/24),"HH:MM"),IF(C14="GS",TEXT(8.8/24+RAND()*(9.3/24-8.8/24),"HH:MM"),IF(C14="N",TEXT(19.8/24+RAND()*(20.3/24-19.8/24),"HH:MM"),""))))) -> 09:04 | D8: =IF(D14="M",TEXT(7.8/24+RAND()*(8.3/24-7.8/24),"HH:MM"),(IF(D14="E",TEXT(13.8/24+RAND()*(14.3/24-13.8/24),"HH:MM"),IF(D14="GS",TEXT(8.8/24+RAND()*(9.3/24-8.8/24),"HH:MM"),IF(D14="N",TEXT(19.8/24+RAND()*(20.3/24-19.8/24),"HH:MM"),""))))) | E8: =IF(E14="M",TEXT(7.8/24+RAND()*(8.3/24-7.8/24),"HH:MM"),(IF(E14="E",TEXT(13.8/24+RAND()*(14.3/24-13.8/24),"HH:MM"),IF(E14="GS",TEXT(8.8/24+RAND()*(9.3/24-8.8/24),"HH:MM"),IF(E14="N",TEXT(19.8/24+RAND()*(20.3/24-19.8/24),"HH:MM"),""))))) -> 09:10 | F8: =IF(F14="M",TEXT(7.8/24+RAND()*(8.3/24-7.8/24),"HH:MM"),(IF(F14="E",TEXT(13.8/24+RAND()*(14.3/24-13.8/24),"HH:MM"),IF(F14="GS",TEXT(8.8/24+RAND()*(9.3/24-8.8/24),"HH:MM"),IF(F14="N",TEXT(19.8/24+RAND()*(20.3/24-19.8/24),"HH:MM"),""))))) -> 08:52 | G8: =IF(G14="M",TEXT(7.8/24+RAND()*(8.3/24-7.8/24),"HH:MM"),(IF(G14="E",TEXT(13.8/24+RAND()*(14.3/24-13.8/24),"HH:MM"),IF(G14="GS",TEXT(8.8/24+RAND()*(9.3/24-8.8/24),"HH:MM"),IF(G14="N",TEXT(19.8/24+RAND()*(20.3/24-19.8/24),"HH:MM"),""))))) -> 09:04 | H8: =IF(H14="M",TEXT(7.8/24+RAND()*(8.3/24-7.8/24),"HH:MM"),(IF(H14="E",TEXT(13.8/24+RAND()*(14.3/24-13.8/24),"HH:MM"),IF(H14="GS",TEXT(8.8/24+RAND()*(9.3/24-8.8/24),"HH:MM"),IF(H14="N",TEXT(19.8/24+RAND()*(20.3/24-19.8/24),"HH:MM"),""))))) -> 09:16 | I8: =IF(I14="M",TEXT(7.8/24+RAND()*(8.3/24-7.8/24),"HH:MM"),(IF(I14="E",TEXT(13.8/24+RAND()*(14.3/24-13.8/24),"HH:MM"),IF(I14="GS",TEXT(8.8/24+RAND()*(9.3/24-8.8/24),"HH:MM"),IF(I14="N",TEXT(19.8/24+RAND()*(20.3/24-19.8/24),"HH:MM"),""))))) -> 08:58 | ... AF8: =IF(AF14="M",TEXT(7.8/24+RAND()*(8.3/24-7.8/24),"HH:MM"),(IF(AF14="E",TEXT(13.8/24+RAND()*(14.3/24-13.8/24),"HH:MM"),IF(AF14="GS",TEXT(8.8/24+RAND()*(9.3/24-8.8/24),"HH:MM"),IF(AF14="N",TEXT(19.8/24+RAND()*(20.3/24-19.8/24),"HH:MM"),""))))) | AH8: absent | AI8: =COUNTIF(B7:AF7,"A") -> 0
A9: OutTime | B9: =IF(B14="M",TEXT(17/24+RAND()*(17.3/24-17/24),"HH:MM"),(IF(B14="E",TEXT(20/24+RAND()*(20.3/24-20/24),"HH:MM"),IF(B14="N",TEXT(8/24+RAND()*(8.3/24-8/24),"HH:MM"),IF(B14="GS",TEXT(17/24+RAND()*(17.3/24-17/24),"HH:MM"),""))))) -> 17:11 | C9: =IF(C14="M",TEXT(17/24+RAND()*(17.3/24-17/24),"HH:MM"),(IF(C14="E",TEXT(20/24+RAND()*(20.3/24-20/24),"HH:MM"),IF(C14="N",TEXT(8/24+RAND()*(8.3/24-8/24),"HH:MM"),IF(C14="GS",TEXT(17/24+RAND()*(17.3/24-17/24),"HH:MM"),""))))) -> 17:07 | D9: =IF(D14="M",TEXT(17/24+RAND()*(17.3/24-17/24),"HH:MM"),(IF(D14="E",TEXT(20/24+RAND()*(20.3/24-20/24),"HH:MM"),IF(D14="N",TEXT(8/24+RAND()*(8.3/24-8/24),"HH:MM"),IF(D14="GS",TEXT(17/24+RAND()*(17.3/24-17/24),"HH:MM"),""))))) | E9: =IF(E14="M",TEXT(17/24+RAND()*(17.3/24-17/24),"HH:MM"),(IF(E14="E",TEXT(20/24+RAND()*(20.3/24-20/24),"HH:MM"),IF(E14="N",TEXT(8/24+RAND()*(8.3/24-8/24),"HH:MM"),IF(E14="GS",TEXT(17/24+RAND()*(17.3/24-17/24),"HH:MM"),""))))) -> 17:17 | F9: =IF(F14="M",TEXT(17/24+RAND()*(17.3/24-17/24),"HH:MM"),(IF(F14="E",TEXT(20/24+RAND()*(20.3/24-20/24),"HH:MM"),IF(F14="N",TEXT(8/24+RAND()*(8.3/24-8/24),"HH:MM"),IF(F14="GS",TEXT(17/24+RAND()*(17.3/24-17/24),"HH:MM"),""))))) -> 17:05 | G9: =IF(G14="M",TEXT(17/24+RAND()*(17.3/24-17/24),"HH:MM"),(IF(G14="E",TEXT(20/24+RAND()*(20.3/24-20/24),"HH:MM"),IF(G14="N",TEXT(8/24+RAND()*(8.3/24-8/24),"HH:MM"),IF(G14="GS",TEXT(17/24+RAND()*(17.3/24-17/24),"HH:MM"),""))))) -> 17:02 | H9: =IF(H14="M",TEXT(17/24+RAND()*(17.3/24-17/24),"HH:MM"),(IF(H14="E",TEXT(20/24+RAND()*(20.3/24-20/24),"HH:MM"),IF(H14="N",TEXT(8/24+RAND()*(8.3/24-8/24),"HH:MM"),IF(H14="GS",TEXT(17/24+RAND()*(17.3/24-17/24),"HH:MM"),""))))) -> 17:05 | I9: =IF(I14="M",TEXT(17/24+RAND()*(17.3/24-17/24),"HH:MM"),(IF(I14="E",TEXT(20/24+RAND()*(20.3/24-20/24),"HH:MM"),IF(I14="N",TEXT(8/24+RAND()*(8.3/24-8/24),"HH:MM"),IF(I14="GS",TEXT(17/24+RAND()*(17.3/24-17/24),"HH:MM"),""))))) -> 17:12 | ... AF9: =IF(AF14="M",TEXT(17/24+RAND()*(17.3/24-17/24),"HH:MM"),(IF(AF14="E",TEXT(20/24+RAND()*(20.3/24-20/24),"HH:MM"),IF(AF14="N",TEXT(8/24+RAND()*(8.3/24-8/24),"HH:MM"),IF(AF14="GS",TEXT(17/24+RAND()*(17.3/24-17/24),"HH:MM"),""))))) | AH9: WeekOFF | AI9: =COUNTIF(B14:AF14,"O") -> 5
A10: Duration | B10: =IF(B14="M",TEXT(B9-B8,"H:MM"),IF(B14="E",TEXT(B9-B8,"H:MM"),IF(B14="N",TEXT(B9+24-B8+30,"H:MM"),IF(B14="GS",TEXT(B9-B8,"H:MM"),"")))) -> 8:10 | C10: =IF(C14="M",TEXT(C9-C8,"H:MM"),IF(C14="E",TEXT(C9-C8,"H:MM"),IF(C14="N",TEXT(C9+24-C8+30,"H:MM"),IF(C14="GS",TEXT(C9-C8,"H:MM"),"")))) -> 8:03 | D10: =IF(D14="M",TEXT(D9-D8,"H:MM"),IF(D14="E",TEXT(D9-D8,"H:MM"),IF(D14="N",TEXT(D9+24-D8+30,"H:MM"),IF(D14="GS",TEXT(D9-D8,"H:MM"),"")))) | E10: =IF(E14="M",TEXT(E9-E8,"H:MM"),IF(E14="E",TEXT(E9-E8,"H:MM"),IF(E14="N",TEXT(E9+24-E8+30,"H:MM"),IF(E14="GS",TEXT(E9-E8,"H:MM"),"")))) -> 8:07 | F10: =IF(F14="M",TEXT(F9-F8,"H:MM"),IF(F14="E",TEXT(F9-F8,"H:MM"),IF(F14="N",TEXT(F9+24-F8+30,"H:MM"),IF(F14="GS",TEXT(F9-F8,"H:MM"),"")))) -> 8:13 | G10: =IF(G14="M",TEXT(G9-G8,"H:MM"),IF(G14="E",TEXT(G9-G8,"H:MM"),IF(G14="N",TEXT(G9+24-G8+30,"H:MM"),IF(G14="GS",TEXT(G9-G8,"H:MM"),"")))) -> 7:58 | H10: =IF(H14="M",TEXT(H9-H8,"H:MM"),IF(H14="E",TEXT(H9-H8,"H:MM"),IF(H14="N",TEXT(H9+24-H8+30,"H:MM"),IF(H14="GS",TEXT(H9-H8,"H:MM"),"")))) -> 7:49 | I10: =IF(I14="M",TEXT(I9-I8,"H:MM"),IF(I14="E",TEXT(I9-I8,"H:MM"),IF(I14="N",TEXT(I9+24-I8+30,"H:MM"),IF(I14="GS",TEXT(I9-I8,"H:MM"),"")))) -> 8:14 | ... AF10: =IF(AF14="M",TEXT(AF9-AF8,"H:MM"),IF(AF14="E",TEXT(AF9-AF8,"H:MM"),IF(AF14="N",TEXT(AF9+24-AF8+30,"H:MM"),IF(AF14="GS",TEXT(AF9-AF8,"H:MM"),"")))) | AH10: late by days | AI10: =COUNTIF(B11:AF11,(B11:AF11)>0) -> 0
A11: Late By | B11: =IF(AND(B14="GS",B16>$B$19),TEXT(B16-$B$19,"HH:MM"),IF(AND(B14="M",B16>$B$15),TEXT(B16-$B$15,"HH:MM"),IF(AND(B14="E",B16>$B$17),TEXT(B16-$B$17,"HH:MM"),IF(AND(B14="N",B16>$B$18),TEXT(B16-$B$18,"HH:MM"),IF(OR(B14="O",B14="A"),"",0))))) -> 00:01 | C11: =IF(AND(C14="GS",C16>$B$19),TEXT(C16-$B$19,"HH:MM"),IF(AND(C14="M",C16>$B$15),TEXT(C16-$B$15,"HH:MM"),IF(AND(C14="E",C16>$B$17),TEXT(C16-$B$17,"HH:MM"),IF(AND(C14="N",C16>$B$18),TEXT(C16-$B$18,"HH:MM"),IF(OR(C14="O",C14="A"),"",0))))) -> 00:04 | D11: =IF(AND(D14="GS",D16>$B$19),TEXT(D16-$B$19,"HH:MM"),IF(AND(D14="M",D16>$B$15),TEXT(D16-$B$15,"HH:MM"),IF(AND(D14="E",D16>$B$17),TEXT(D16-$B$17,"HH:MM"),IF(AND(D14="N",D16>$B$18),TEXT(D16-$B$18,"HH:MM"),IF(OR(D14="O",D14="A"),"",0))))) | E11: =IF(AND(E14="GS",E16>$B$19),TEXT(E16-$B$19,"HH:MM"),IF(AND(E14="M",E16>$B$15),TEXT(E16-$B$15,"HH:MM"),IF(AND(E14="E",E16>$B$17),TEXT(E16-$B$17,"HH:MM"),IF(AND(E14="N",E16>$B$18),TEXT(E16-$B$18,"HH:MM"),IF(OR(E14="O",E14="A"),"",0))))) -> 00:10 | F11: =IF(AND(F14="GS",F16>$B$19),TEXT(F16-$B$19,"HH:MM"),IF(AND(F14="M",F16>$B$15),TEXT(F16-$B$15,"HH:MM"),IF(AND(F14="E",F16>$B$17),TEXT(F16-$B$17,"HH:MM"),IF(AND(F14="N",F16>$B$18),TEXT(F16-$B$18,"HH:MM"),IF(OR(F14="O",F14="A"),"",0))))) -> 0 | G11: =IF(AND(G14="GS",G16>$B$19),TEXT(G16-$B$19,"HH:MM"),IF(AND(G14="M",G16>$B$15),TEXT(G16-$B$15,"HH:MM"),IF(AND(G14="E",G16>$B$17),TEXT(G16-$B$17,"HH:MM"),IF(AND(G14="N",G16>$B$18),TEXT(G16-$B$18,"HH:MM"),IF(OR(G14="O",G14="A"),"",0))))) -> 00:04 | H11: =IF(AND(H14="GS",H16>$B$19),TEXT(H16-$B$19,"HH:MM"),IF(AND(H14="M",H16>$B$15),TEXT(H16-$B$15,"HH:MM"),IF(AND(H14="E",H16>$B$17),TEXT(H16-$B$17,"HH:MM"),IF(AND(H14="N",H16>$B$18),TEXT(H16-$B$18,"HH:MM"),IF(OR(H14="O",H14="A"),"",0))))) -> 00:16 | I11: =IF(AND(I14="GS",I16>$B$19),TEXT(I16-$B$19,"HH:MM"),IF(AND(I14="M",I16>$B$15),TEXT(I16-$B$15,"HH:MM"),IF(AND(I14="E",I16>$B$17),TEXT(I16-$B$17,"HH:MM"),IF(AND(I14="N",I16>$B$18),TEXT(I16-$B$18,"HH:MM"),IF(OR(I14="O",I14="A"),"",0))))) -> 0 | ... AF11: =IF(AND(AF14="GS",AF16>$B$19),TEXT(AF16-$B$19,"HH:MM"),IF(AND(AF14="M",AF16>$B$15),TEXT(AF16-$B$15,"HH:MM"),IF(AND(AF14="E",AF16>$B$17),TEXT(AF16-$B$17,"HH:MM"),IF(AND(AF14="N",AF16>$B$18),TEXT(AF16-$B$18,"HH:MM"),IF(OR(AF14="O",AF14="A"),"",0)))))
A12: Early By
A13: OT
A14: Shift | B14: =Entry!B3 -> GS | C14: =Entry!C3 -> GS | D14: =Entry!D3 -> O | E14: =Entry!E3 -> GS | F14: =Entry!F3 -> GS | G14: =Entry!G3 -> GS | H14: =Entry!H3 -> GS | I14: =Entry!I3 -> GS | ... AF14: =Entry!AF3 -> O
A15: M | B15: 0.33333333
B16: =IF(OR(B14="O",B14="A"),"O ",VALUE(B8)) -> 0.37569444 | C16: =IF(OR(C14="O",C14="A"),"O ",VALUE(C8)) -> 0.37777778 | D16: =IF(OR(D14="O",D14="A"),"O ",VALUE(D8)) -> O | E16: =IF(OR(E14="O",E14="A"),"O ",VALUE(E8)) -> 0.38194444 | F16: =IF(OR(F14="O",F14="A"),"O ",VALUE(F8)) -> 0.36944444 | G16: =IF(OR(G14="O",G14="A"),"O ",VALUE(G8)) -> 0.37777778 | H16: =IF(OR(H14="O",H14="A"),"O ",VALUE(H8)) -> 0.38611111 | I16: =IF(OR(I14="O",I14="A"),"O ",VALUE(I8)) -> 0.37361111 | ... AF16: =IF(OR(AF14="O",AF14="A"),"O ",VALUE(AF8)) -> O
A17: E | B17: 0.58333333
A18: N | B18: 0.83333333
A19: GS | B19: 0.375
A20: Late | B20: =IF(OR(B14="O",B14="A"),0,VALUE(B11)) -> 0.00069444444 | C20: =IF(OR(C14="O",C14="A"),0,VALUE(C11)) -> 0.0027777778 | D20: =IF(OR(D14="O",D14="A"),0,VALUE(D11)) -> 0 | E20: =IF(OR(E14="O",E14="A"),0,VALUE(E11)) -> 0.0069444444 | F20: =IF(OR(F14="O",F14="A"),0,VALUE(F11)) -> 0 | G20: =IF(OR(G14="O",G14="A"),0,VALUE(G11)) -> 0.0027777778 | H20: =IF(OR(H14="O",H14="A"),0,VALUE(H11)) -> 0.011111111 | I20: =IF(OR(I14="O",I14="A"),0,VALUE(I11)) -> 0 | ... AF20: =IF(OR(AF14="O",AF14="A"),0,VALUE(AF11)) -> 0 | AH20: =SUM(B20:AF20) -> 0.089583333
B21: =IF(OR(B14="O",B14="A"),0,VALUE(B10)) -> 0.34027778 | C21: =IF(OR(C14="O",C14="A"),0,VALUE(C10)) -> 0.33541667 | D21: =IF(OR(D14="O",D14="A"),0,VALUE(D10)) -> 0 | E21: =IF(OR(E14="O",E14="A"),0,VALUE(E10)) -> 0.33819444 | F21: =IF(OR(F14="O",F14="A"),0,VALUE(F10)) -> 0.34236111 | G21: =IF(OR(G14="O",G14="A"),0,VALUE(G10)) -> 0.33194444 | H21: =IF(OR(H14="O",H14="A"),0,VALUE(H10)) -> 0.32569444 | I21: =IF(OR(I14="O",I14="A"),0,VALUE(I10)) -> 0.34305556 | ... AF21: =IF(OR(AF14="O",AF14="A"),0,VALUE(AF10)) -> 0 | AH21: =SUM(B21:AF21) -> 8.7666667
A24: =Entry!A4 -> DR. SURAJ SAO | H24: Total Work Duration: | L24: =AH40 -> 9.1055556 | M24: Hrs. | N24: Total OT: | P24: 0 | Q24: Hrs | R24: Present: | T24: =AI26 -> 27 | U24: Absent: | W24: =AI27 -> 0 | X24: WeeklyOff: | Z24: =AI28 -> 4 | AA24: Holidays: 0 Leaves Taken:0
H25: Late By Hrs: | K25: =AH39 -> 0.095833333 | L25: Late By Days: | N25: 0
A26: Status | B26: =IF(B33="M","P",IF(B33="E","P",IF(B33="N","P",IF(B33="GS","P",IF(B33="O","O","A"))))) -> P | C26: =IF(C33="M","P",IF(C33="E","P",IF(C33="N","P",IF(C33="GS","P",IF(C33="O","O","A"))))) -> P | D26: =IF(D33="M","P",IF(D33="E","P",IF(D33="N","P",IF(D33="GS","P",IF(D33="O","O","A"))))) -> P | E26: =IF(E33="M","P",IF(E33="E","P",IF(E33="N","P",IF(E33="GS","P",IF(E33="O","O","A"))))) -> P | F26: =IF(F33="M","P",IF(F33="E","P",IF(F33="N","P",IF(F33="GS","P",IF(F33="O","O","A"))))) -> O | G26: =IF(G33="M","P",IF(G33="E","P",IF(G33="N","P",IF(G33="GS","P",IF(G33="O","O","A"))))) -> P | H26: =IF(H33="M","P",IF(H33="E","P",IF(H33="N","P",IF(H33="GS","P",IF(H33="O","O","A"))))) -> P | I26: =IF(I33="M","P",IF(I33="E","P",IF(I33="N","P",IF(I33="GS","P",IF(I33="O","O","A"))))) -> P | ... AF26: =IF(AF33="M","P",IF(AF33="E","P",IF(AF33="N","P",IF(AF33="GS","P",IF(AF33="O","O","A"))))) -> P | AH26: present | AI26: =COUNTIF(B26:AF26,"P") -> 27
A27: InTime | B27: =IF(B33="M",TEXT(7.8/24+RAND()*(8.3/24-7.8/24),"HH:MM"),(IF(B33="E",TEXT(13.8/24+RAND()*(14.3/24-13.8/24),"HH:MM"),IF(B33="GS",TEXT(8.8/24+RAND()*(9.3/24-8.8/24),"HH:MM"),IF(B33="N",TEXT(19.8/24+RAND()*(20.3/24-19.8/24),"HH:MM"),""))))) -> 09:17 | C27: =IF(C33="M",TEXT(7.8/24+RAND()*(8.3/24-7.8/24),"HH:MM"),(IF(C33="E",TEXT(13.8/24+RAND()*(14.3/24-13.8/24),"HH:MM"),IF(C33="GS",TEXT(8.8/24+RAND()*(9.3/24-8.8/24),"HH:MM"),IF(C33="N",TEXT(19.8/24+RAND()*(20.3/24-19.8/24),"HH:MM"),""))))) -> 09:15 | D27: =IF(D33="M",TEXT(7.8/24+RAND()*(8.3/24-7.8/24),"HH:MM"),(IF(D33="E",TEXT(13.8/24+RAND()*(14.3/24-13.8/24),"HH:MM"),IF(D33="GS",TEXT(8.8/24+RAND()*(9.3/24-8.8/24),"HH:MM"),IF(D33="N",TEXT(19.8/24+RAND()*(20.3/24-19.8/24),"HH:MM"),""))))) -> 09:00 | E27: =IF(E33="M",TEXT(7.8/24+RAND()*(8.3/24-7.8/24),"HH:MM"),(IF(E33="E",TEXT(13.8/24+RAND()*(14.3/24-13.8/24),"HH:MM"),IF(E33="GS",TEXT(8.8/24+RAND()*(9.3/24-8.8/24),"HH:MM"),IF(E33="N",TEXT(19.8/24+RAND()*(20.3/24-19.8/24),"HH:MM"),""))))) -> 08:52 | F27: =IF(F33="M",TEXT(7.8/24+RAND()*(8.3/24-7.8/24),"HH:MM"),(IF(F33="E",TEXT(13.8/24+RAND()*(14.3/24-13.8/24),"HH:MM"),IF(F33="GS",TEXT(8.8/24+RAND()*(9.3/24-8.8/24),"HH:MM"),IF(F33="N",TEXT(19.8/24+RAND()*(20.3/24-19.8/24),"HH:MM"),""))))) | G27: =IF(G33="M",TEXT(7.8/24+RAND()*(8.3/24-7.8/24),"HH:MM"),(IF(G33="E",TEXT(13.8/24+RAND()*(14.3/24-13.8/24),"HH:MM"),IF(G33="GS",TEXT(8.8/24+RAND()*(9.3/24-8.8/24),"HH:MM"),IF(G33="N",TEXT(19.8/24+RAND()*(20.3/24-19.8/24),"HH:MM"),""))))) -> 09:17 | H27: =IF(H33="M",TEXT(7.8/24+RAND()*(8.3/24-7.8/24),"HH:MM"),(IF(H33="E",TEXT(13.8/24+RAND()*(14.3/24-13.8/24),"HH:MM"),IF(H33="GS",TEXT(8.8/24+RAND()*(9.3/24-8.8/24),"HH:MM"),IF(H33="N",TEXT(19.8/24+RAND()*(20.3/24-19.8/24),"HH:MM"),""))))) -> 09:16 | I27: =IF(I33="M",TEXT(7.8/24+RAND()*(8.3/24-7.8/24),"HH:MM"),(IF(I33="E",TEXT(13.8/24+RAND()*(14.3/24-13.8/24),"HH:MM"),IF(I33="GS",TEXT(8.8/24+RAND()*(9.3/24-8.8/24),"HH:MM"),IF(I33="N",TEXT(19.8/24+RAND()*(20.3/24-19.8/24),"HH:MM"),""))))) -> 09:11 | ... AF27: =IF(AF33="M",TEXT(7.8/24+RAND()*(8.3/24-7.8/24),"HH:MM"),(IF(AF33="E",TEXT(13.8/24+RAND()*(14.3/24-13.8/24),"HH:MM"),IF(AF33="GS",TEXT(8.8/24+RAND()*(9.3/24-8.8/24),"HH:MM"),IF(AF33="N",TEXT(19.8/24+RAND()*(20.3/24-19.8/24),"HH:MM"),""))))) -> 08:50 | AH27: absent | AI27: =COUNTIF(B26:AF26,"A") -> 0
A28: OutTime | B28: =IF(B33="M",TEXT(17/24+RAND()*(17.3/24-17/24),"HH:MM"),(IF(B33="E",TEXT(20/24+RAND()*(20.3/24-20/24),"HH:MM"),IF(B33="N",TEXT(8/24+RAND()*(8.3/24-8/24),"HH:MM"),IF(B33="GS",TEXT(17/24+RAND()*(17.3/24-17/24),"HH:MM"),""))))) -> 17:06 | C28: =IF(C33="M",TEXT(17/24+RAND()*(17.3/24-17/24),"HH:MM"),(IF(C33="E",TEXT(20/24+RAND()*(20.3/24-20/24),"HH:MM"),IF(C33="N",TEXT(8/24+RAND()*(8.3/24-8/24),"HH:MM"),IF(C33="GS",TEXT(17/24+RAND()*(17.3/24-17/24),"HH:MM"),""))))) -> 17:01 | D28: =IF(D33="M",TEXT(17/24+RAND()*(17.3/24-17/24),"HH:MM"),(IF(D33="E",TEXT(20/24+RAND()*(20.3/24-20/24),"HH:MM"),IF(D33="N",TEXT(8/24+RAND()*(8.3/24-8/24),"HH:MM"),IF(D33="GS",TEXT(17/24+RAND()*(17.3/24-17/24),"HH:MM"),""))))) -> 17:01 | E28: =IF(E33="M",TEXT(17/24+RAND()*(17.3/24-17/24),"HH:MM"),(IF(E33="E",TEXT(20/24+RAND()*(20.3/24-20/24),"HH:MM"),IF(E33="N",TEXT(8/24+RAND()*(8.3/24-8/24),"HH:MM"),IF(E33="GS",TEXT(17/24+RAND()*(17.3/24-17/24),"HH:MM"),""))))) -> 17:11 | F28: =IF(F33="M",TEXT(17/24+RAND()*(17.3/24-17/24),"HH:MM"),(IF(F33="E",TEXT(20/24+RAND()*(20.3/24-20/24),"HH:MM"),IF(F33="N",TEXT(8/24+RAND()*(8.3/24-8/24),"HH:MM"),IF(F33="GS",TEXT(17/24+RAND()*(17.3/24-17/24),"HH:MM"),""))))) | G28: =IF(G33="M",TEXT(17/24+RAND()*(17.3/24-17/24),"HH:MM"),(IF(G33="E",TEXT(20/24+RAND()*(20.3/24-20/24),"HH:MM"),IF(G33="N",TEXT(8/24+RAND()*(8.3/24-8/24),"HH:MM"),IF(G33="GS",TEXT(17/24+RAND()*(17.3/24-17/24),"HH:MM"),""))))) -> 17:11 | H28: =IF(H33="M",TEXT(17/24+RAND()*(17.3/24-17/24),"HH:MM"),(IF(H33="E",TEXT(20/24+RAND()*(20.3/24-20/24),"HH:MM"),IF(H33="N",TEXT(8/24+RAND()*(8.3/24-8/24),"HH:MM"),IF(H33="GS",TEXT(17/24+RAND()*(17.3/24-17/24),"HH:MM"),""))))) -> 17:12 | I28: =IF(I33="M",TEXT(17/24+RAND()*(17.3/24-17/24),"HH:MM"),(IF(I33="E",TEXT(20/24+RAND()*(20.3/24-20/24),"HH:MM"),IF(I33="N",TEXT(8/24+RAND()*(8.3/24-8/24),"HH:MM"),IF(I33="GS",TEXT(17/24+RAND()*(17.3/24-17/24),"HH:MM"),""))))) -> 17:08 | ... AF28: =IF(AF33="M",TEXT(17/24+RAND()*(17.3/24-17/24),"HH:MM"),(IF(AF33="E",TEXT(20/24+RAND()*(20.3/24-20/24),"HH:MM"),IF(AF33="N",TEXT(8/24+RAND()*(8.3/24-8/24),"HH:MM"),IF(AF33="GS",TEXT(17/24+RAND()*(17.3/24-17/24),"HH:MM"),""))))) -> 17:04 | AH28: WeekOFF | AI28: =COUNTIF(B33:AF33,"O") -> 4
A29: Duration | B29: =IF(B33="M",TEXT(B28-B27,"H:MM"),IF(B33="E",TEXT(B28-B27,"H:MM"),IF(B33="N",TEXT(B28+24-B27+30,"H:MM"),IF(B33="GS",TEXT(B28-B27,"H:MM"),"")))) -> 7:49 | C29: =IF(C33="M",TEXT(C28-C27,"H:MM"),IF(C33="E",TEXT(C28-C27,"H:MM"),IF(C33="N",TEXT(C28+24-C27+30,"H:MM"),IF(C33="GS",TEXT(C28-C27,"H:MM"),"")))) -> 7:46 | D29: =IF(D33="M",TEXT(D28-D27,"H:MM"),IF(D33="E",TEXT(D28-D27,"H:MM"),IF(D33="N",TEXT(D28+24-D27+30,"H:MM"),IF(D33="GS",TEXT(D28-D27,"H:MM"),"")))) -> 8:01 | E29: =IF(E33="M",TEXT(E28-E27,"H:MM"),IF(E33="E",TEXT(E28-E27,"H:MM"),IF(E33="N",TEXT(E28+24-E27+30,"H:MM"),IF(E33="GS",TEXT(E28-E27,"H:MM"),"")))) -> 8:19 | F29: =IF(F33="M",TEXT(F28-F27,"H:MM"),IF(F33="E",TEXT(F28-F27,"H:MM"),IF(F33="N",TEXT(F28+24-F27+30,"H:MM"),IF(F33="GS",TEXT(F28-F27,"H:MM"),"")))) | G29: =IF(G33="M",TEXT(G28-G27,"H:MM"),IF(G33="E",TEXT(G28-G27,"H:MM"),IF(G33="N",TEXT(G28+24-G27+30,"H:MM"),IF(G33="GS",TEXT(G28-G27,"H:MM"),"")))) -> 7:54 | H29: =IF(H33="M",TEXT(H28-H27,"H:MM"),IF(H33="E",TEXT(H28-H27,"H:MM"),IF(H33="N",TEXT(H28+24-H27+30,"H:MM"),IF(H33="GS",TEXT(H28-H27,"H:MM"),"")))) -> 7:56 | I29: =IF(I33="M",TEXT(I28-I27,"H:MM"),IF(I33="E",TEXT(I28-I27,"H:MM"),IF(I33="N",TEXT(I28+24-I27+30,"H:MM"),IF(I33="GS",TEXT(I28-I27,"H:MM"),"")))) -> 7:57 | ... AF29: =IF(AF33="M",TEXT(AF28-AF27,"H:MM"),IF(AF33="E",TEXT(AF28-AF27,"H:MM"),IF(AF33="N",TEXT(AF28+24-AF27+30,"H:MM"),IF(AF33="GS",TEXT(AF28-AF27,"H:MM"),"")))) -> 8:14 | AH29: late by days | AI29: =COUNTIF(B30:AF30,(B30:AF30)>0) -> 0
A30: Late By | B30: =IF(AND(B33="GS",B35>$B$19),TEXT(B35-$B$19,"HH:MM"),IF(AND(B33="M",B35>$B$15),TEXT(B35-$B$15,"HH:MM"),IF(AND(B33="E",B35>$B$17),TEXT(B35-$B$17,"HH:MM"),IF(AND(B33="N",B35>$B$18),TEXT(B35-$B$18,"HH:MM"),IF(OR(B33="O",B33="A"),"",0))))) -> 00:17 | C30: =IF(AND(C33="GS",C35>$B$19),TEXT(C35-$B$19,"HH:MM"),IF(AND(C33="M",C35>$B$15),TEXT(C35-$B$15,"HH:MM"),IF(AND(C33="E",C35>$B$17),TEXT(C35-$B$17,"HH:MM"),IF(AND(C33="N",C35>$B$18),TEXT(C35-$B$18,"HH:MM"),IF(OR(C33="O",C33="A"),"",0))))) -> 00:15 | D30: =IF(AND(D33="GS",D35>$B$19),TEXT(D35-$B$19,"HH:MM"),IF(AND(D33="M",D35>$B$15),TEXT(D35-$B$15,"HH:MM"),IF(AND(D33="E",D35>$B$17),TEXT(D35-$B$17,"HH:MM"),IF(AND(D33="N",D35>$B$18),TEXT(D35-$B$18,"HH:MM"),IF(OR(D33="O",D33="A"),"",0))))) -> 0 | E30: =IF(AND(E33="GS",E35>$B$19),TEXT(E35-$B$19,"HH:MM"),IF(AND(E33="M",E35>$B$15),TEXT(E35-$B$15,"HH:MM"),IF(AND(E33="E",E35>$B$17),TEXT(E35-$B$17,"HH:MM"),IF(AND(E33="N",E35>$B$18),TEXT(E35-$B$18,"HH:MM"),IF(OR(E33="O",E33="A"),"",0))))) -> 0 | F30: =IF(AND(F33="GS",F35>$B$19),TEXT(F35-$B$19,"HH:MM"),IF(AND(F33="M",F35>$B$15),TEXT(F35-$B$15,"HH:MM"),IF(AND(F33="E",F35>$B$17),TEXT(F35-$B$17,"HH:MM"),IF(AND(F33="N",F35>$B$18),TEXT(F35-$B$18,"HH:MM"),IF(OR(F33="O",F33="A"),"",0))))) | G30: =IF(AND(G33="GS",G35>$B$19),TEXT(G35-$B$19,"HH:MM"),IF(AND(G33="M",G35>$B$15),TEXT(G35-$B$15,"HH:MM"),IF(AND(G33="E",G35>$B$17),TEXT(G35-$B$17,"HH:MM"),IF(AND(G33="N",G35>$B$18),TEXT(G35-$B$18,"HH:MM"),IF(OR(G33="O",G33="A"),"",0))))) -> 00:17 | H30: =IF(AND(H33="GS",H35>$B$19),TEXT(H35-$B$19,"HH:MM"),IF(AND(H33="M",H35>$B$15),TEXT(H35-$B$15,"HH:MM"),IF(AND(H33="E",H35>$B$17),TEXT(H35-$B$17,"HH:MM"),IF(AND(H33="N",H35>$B$18),TEXT(H35-$B$18,"HH:MM"),IF(OR(H33="O",H33="A"),"",0))))) -> 00:16 | I30: =IF(AND(I33="GS",I35>$B$19),TEXT(I35-$B$19,"HH:MM"),IF(AND(I33="M",I35>$B$15),TEXT(I35-$B$15,"HH:MM"),IF(AND(I33="E",I35>$B$17),TEXT(I35-$B$17,"HH:MM"),IF(AND(I33="N",I35>$B$18),TEXT(I35-$B$18,"HH:MM"),IF(OR(I33="O",I33="A"),"",0))))) -> 00:11 | ... AF30: =IF(AND(AF33="GS",AF35>$B$19),TEXT(AF35-$B$19,"HH:MM"),IF(AND(AF33="M",AF35>$B$15),TEXT(AF35-$B$15,"HH:MM"),IF(AND(AF33="E",AF35>$B$17),TEXT(AF35-$B$17,"HH:MM"),IF(AND(AF33="N",AF35>$B$18),TEXT(AF35-$B$18,"HH:MM"),IF(OR(AF33="O",AF33="A"),"",0))))) -> 0
A31: Early By
A32: OT
A33: Shift | B33: =Entry!B4 -> GS | C33: =Entry!C4 -> GS | D33: =Entry!D4 -> GS | E33: =Entry!E4 -> GS | F33: =Entry!F4 -> O | G33: =Entry!G4 -> GS | H33: =Entry!H4 -> GS | I33: =Entry!I4 -> GS | ... AF33: =Entry!AF4 -> GS
A34: M | B34: 0.33333333
B35: =IF(OR(B33="O",B33="A"),"O ",VALUE(B27)) -> 0.38680556 | C35: =IF(OR(C33="O",C33="A"),"O ",VALUE(C27)) -> 0.38541667 | D35: =IF(OR(D33="O",D33="A"),"O ",VALUE(D27)) -> 0.375 | E35: =IF(OR(E33="O",E33="A"),"O ",VALUE(E27)) -> 0.36944444 | F35: =IF(OR(F33="O",F33="A"),"O ",VALUE(F27)) -> O | G35: =IF(OR(G33="O",G33="A"),"O ",VALUE(G27)) -> 0.38680556 | H35: =IF(OR(H33="O",H33="A"),"O ",VALUE(H27)) -> 0.38611111 | I35: =IF(OR(I33="O",I33="A"),"O ",VALUE(I27)) -> 0.38263889 | ... AF35: =IF(OR(AF33="O",AF33="A"),"O ",VALUE(AF27)) -> 0.36805556
A36: E | B36: 0.58333333
A37: N | B37: 0.83333333
A38: GS | B38: 0.375
A39: Late | B39: =IF(OR(B33="O",B33="A"),0,VALUE(B30)) -> 0.011805556 | C39: =IF(OR(C33="O",C33="A"),0,VALUE(C30)) -> 0.010416667 | D39: =IF(OR(D33="O",D33="A"),0,VALUE(D30)) -> 0 | E39: =IF(OR(E33="O",E33="A"),0,VALUE(E30)) -> 0 | F39: =IF(OR(F33="O",F33="A"),0,VALUE(F30)) -> 0 | G39: =IF(OR(G33="O",G33="A"),0,VALUE(G30)) -> 0.011805556 | H39: =IF(OR(H33="O",H33="A"),0,VALUE(H30)) -> 0.011111111 | I39: =IF(OR(I33="O",I33="A"),0,VALUE(I30)) -> 0.0076388889 | ... AF39: =IF(OR(AF33="O",AF33="A"),0,VALUE(AF30)) -> 0 | AH39: =SUM(B39:AF39) -> 0.095833333
B40: =IF(OR(B33="O",B33="A"),0,VALUE(B29)) -> 0.32569444 | C40: =IF(OR(C33="O",C33="A"),0,VALUE(C29)) -> 0.32361111 | D40: =IF(OR(D33="O",D33="A"),0,VALUE(D29)) -> 0.33402778 | E40: =IF(OR(E33="O",E33="A"),0,VALUE(E29)) -> 0.34652778 | F40: =IF(OR(F33="O",F33="A"),0,VALUE(F29)) -> 0 | G40: =IF(OR(G33="O",G33="A"),0,VALUE(G29)) -> 0.32916667 | H40: =IF(OR(H33="O",H33="A"),0,VALUE(H29)) -> 0.33055556 | I40: =IF(OR(I33="O",I33="A"),0,VALUE(I29)) -> 0.33125 | ... AF40: =IF(OR(AF33="O",AF33="A"),0,VALUE(AF29)) -> 0.34305556 | AH40: =SUM(B40:AF40) -> 9.1055556
A45: =Entry!A5 -> DR. PANKAJ VERMA | H45: Total Work Duration: | L45: =AH61 -> 8.8298611 | M45: Hrs. | N45: Total OT: | P45: 0 | Q45: Hrs | R45: Present: | T45: =AI47 -> 26 | U45: Absent: | W45: =AI48 -> 0 | X45: WeeklyOff: | Z45: =AI49 -> 5 | AA45: Holidays: 0 Leaves Taken:0
H46: Late By Hrs: | K46: =AH60 -> 0.051388889 | L46: Late By Days: | N46: 0
A47: Status | B47: =IF(B54="M","P",IF(B54="E","P",IF(B54="N","P",IF(B54="GS","P",IF(B54="O","O","A"))))) -> P | C47: =IF(C54="M","P",IF(C54="E","P",IF(C54="N","P",IF(C54="GS","P",IF(C54="O","O","A"))))) -> P | D47: =IF(D54="M","P",IF(D54="E","P",IF(D54="N","P",IF(D54="GS","P",IF(D54="O","O","A"))))) -> O | E47: =IF(E54="M","P",IF(E54="E","P",IF(E54="N","P",IF(E54="GS","P",IF(E54="O","O","A"))))) -> P | F47: =IF(F54="M","P",IF(F54="E","P",IF(F54="N","P",IF(F54="GS","P",IF(F54="O","O","A"))))) -> P | G47: =IF(G54="M","P",IF(G54="E","P",IF(G54="N","P",IF(G54="GS","P",IF(G54="O","O","A"))))) -> P | H47: =IF(H54="M","P",IF(H54="E","P",IF(H54="N","P",IF(H54="GS","P",IF(H54="O","O","A"))))) -> P | I47: =IF(I54="M","P",IF(I54="E","P",IF(I54="N","P",IF(I54="GS","P",IF(I54="O","O","A"))))) -> P | ... AF47: =IF(AF54="M","P",IF(AF54="E","P",IF(AF54="N","P",IF(AF54="GS","P",IF(AF54="O","O","A"))))) -> O | AH47: present | AI47: =COUNTIF(B47:AF47,"P") -> 26
A48: InTime | B48: =IF(B54="M",TEXT(7.8/24+RAND()*(8.3/24-7.8/24),"HH:MM"),(IF(B54="E",TEXT(13.8/24+RAND()*(14.3/24-13.8/24),"HH:MM"),IF(B54="GS",TEXT(8.8/24+RAND()*(9.3/24-8.8/24),"HH:MM"),IF(B54="N",TEXT(19.8/24+RAND()*(20.3/24-19.8/24),"HH:MM"),""))))) -> 09:00 | C48: =IF(C54="M",TEXT(7.8/24+RAND()*(8.3/24-7.8/24),"HH:MM"),(IF(C54="E",TEXT(13.8/24+RAND()*(14.3/24-13.8/24),"HH:MM"),IF(C54="GS",TEXT(8.8/24+RAND()*(9.3/24-8.8/24),"HH:MM"),IF(C54="N",TEXT(19.8/24+RAND()*(20.3/24-19.8/24),"HH:MM"),""))))) -> 08:53 | D48: =IF(D54="M",TEXT(7.8/24+RAND()*(8.3/24-7.8/24),"HH:MM"),(IF(D54="E",TEXT(13.8/24+RAND()*(14.3/24-13.8/24),"HH:MM"),IF(D54="GS",TEXT(8.8/24+RAND()*(9.3/24-8.8/24),"HH:MM"),IF(D54="N",TEXT(19.8/24+RAND()*(20.3/24-19.8/24),"HH:MM"),""))))) | E48: =IF(E54="M",TEXT(7.8/24+RAND()*(8.3/24-7.8/24),"HH:MM"),(IF(E54="E",TEXT(13.8/24+RAND()*(14.3/24-13.8/24),"HH:MM"),IF(E54="GS",TEXT(8.8/24+RAND()*(9.3/24-8.8/24),"HH:MM"),IF(E54="N",TEXT(19.8/24+RAND()*(20.3/24-19.8/24),"HH:MM"),""))))) -> 09:07 | F48: =IF(F54="M",TEXT(7.8/24+RAND()*(8.3/24-7.8/24),"HH:MM"),(IF(F54="E",TEXT(13.8/24+RAND()*(14.3/24-13.8/24),"HH:MM"),IF(F54="GS",TEXT(8.8/24+RAND()*(9.3/24-8.8/24),"HH:MM"),IF(F54="N",TEXT(19.8/24+RAND()*(20.3/24-19.8/24),"HH:MM"),""))))) -> 09:10 | G48: =IF(G54="M",TEXT(7.8/24+RAND()*(8.3/24-7.8/24),"HH:MM"),(IF(G54="E",TEXT(13.8/24+RAND()*(14.3/24-13.8/24),"HH:MM"),IF(G54="GS",TEXT(8.8/24+RAND()*(9.3/24-8.8/24),"HH:MM"),IF(G54="N",TEXT(19.8/24+RAND()*(20.3/24-19.8/24),"HH:MM"),""))))) -> 09:02 | H48: =IF(H54="M",TEXT(7.8/24+RAND()*(8.3/24-7.8/24),"HH:MM"),(IF(H54="E",TEXT(13.8/24+RAND()*(14.3/24-13.8/24),"HH:MM"),IF(H54="GS",TEXT(8.8/24+RAND()*(9.3/24-8.8/24),"HH:MM"),IF(H54="N",TEXT(19.8/24+RAND()*(20.3/24-19.8/24),"HH:MM"),""))))) -> 08:54 | I48: =IF(I54="M",TEXT(7.8/24+RAND()*(8.3/24-7.8/24),"HH:MM"),(IF(I54="E",TEXT(13.8/24+RAND()*(14.3/24-13.8/24),"HH:MM"),IF(I54="GS",TEXT(8.8/24+RAND()*(9.3/24-8.8/24),"HH:MM"),IF(I54="N",TEXT(19.8/24+RAND()*(20.3/24-19.8/24),"HH:MM"),""))))) -> 08:52 | ... AF48: =IF(AF54="M",TEXT(7.8/24+RAND()*(8.3/24-7.8/24),"HH:MM"),(IF(AF54="E",TEXT(13.8/24+RAND()*(14.3/24-13.8/24),"HH:MM"),IF(AF54="GS",TEXT(8.8/24+RAND()*(9.3/24-8.8/24),"HH:MM"),IF(AF54="N",TEXT(19.8/24+RAND()*(20.3/24-19.8/24),"HH:MM"),""))))) | AH48: absent | AI48: =COUNTIF(B47:AF47,"A") -> 0
A49: OutTime | B49: =IF(B54="M",TEXT(17/24+RAND()*(17.3/24-17/24),"HH:MM"),(IF(B54="E",TEXT(20/24+RAND()*(20.3/24-20/24),"HH:MM"),IF(B54="N",TEXT(8/24+RAND()*(8.3/24-8/24),"HH:MM"),IF(B54="GS",TEXT(17/24+RAND()*(17.3/24-17/24),"HH:MM"),""))))) -> 17:17 | C49: =IF(C54="M",TEXT(17/24+RAND()*(17.3/24-17/24),"HH:MM"),(IF(C54="E",TEXT(20/24+RAND()*(20.3/24-20/24),"HH:MM"),IF(C54="N",TEXT(8/24+RAND()*(8.3/24-8/24),"HH:MM"),IF(C54="GS",TEXT(17/24+RAND()*(17.3/24-17/24),"HH:MM"),""))))) -> 17:10 | D49: =IF(D54="M",TEXT(17/24+RAND()*(17.3/24-17/24),"HH:MM"),(IF(D54="E",TEXT(20/24+RAND()*(20.3/24-20/24),"HH:MM"),IF(D54="N",TEXT(8/24+RAND()*(8.3/24-8/24),"HH:MM"),IF(D54="GS",TEXT(17/24+RAND()*(17.3/24-17/24),"HH:MM"),""))))) | E49: =IF(E54="M",TEXT(17/24+RAND()*(17.3/24-17/24),"HH:MM"),(IF(E54="E",TEXT(20/24+RAND()*(20.3/24-20/24),"HH:MM"),IF(E54="N",TEXT(8/24+RAND()*(8.3/24-8/24),"HH:MM"),IF(E54="GS",TEXT(17/24+RAND()*(17.3/24-17/24),"HH:MM"),""))))) -> 17:07 | F49: =IF(F54="M",TEXT(17/24+RAND()*(17.3/24-17/24),"HH:MM"),(IF(F54="E",TEXT(20/24+RAND()*(20.3/24-20/24),"HH:MM"),IF(F54="N",TEXT(8/24+RAND()*(8.3/24-8/24),"HH:MM"),IF(F54="GS",TEXT(17/24+RAND()*(17.3/24-17/24),"HH:MM"),""))))) -> 17:06 | G49: =IF(G54="M",TEXT(17/24+RAND()*(17.3/24-17/24),"HH:MM"),(IF(G54="E",TEXT(20/24+RAND()*(20.3/24-20/24),"HH:MM"),IF(G54="N",TEXT(8/24+RAND()*(8.3/24-8/24),"HH:MM"),IF(G54="GS",TEXT(17/24+RAND()*(17.3/24-17/24),"HH:MM"),""))))) -> 17:00 | H49: =IF(H54="M",TEXT(17/24+RAND()*(17.3/24-17/24),"HH:MM"),(IF(H54="E",TEXT(20/24+RAND()*(20.3/24-20/24),"HH:MM"),IF(H54="N",TEXT(8/24+RAND()*(8.3/24-8/24),"HH:MM"),IF(H54="GS",TEXT(17/24+RAND()*(17.3/24-17/24),"HH:MM"),""))))) -> 17:17 | I49: =IF(I54="M",TEXT(17/24+RAND()*(17.3/24-17/24),"HH:MM"),(IF(I54="E",TEXT(20/24+RAND()*(20.3/24-20/24),"HH:MM"),IF(I54="N",TEXT(8/24+RAND()*(8.3/24-8/24),"HH:MM"),IF(I54="GS",TEXT(17/24+RAND()*(17.3/24-17/24),"HH:MM"),""))))) -> 17:12 | ... AF49: =IF(AF54="M",TEXT(17/24+RAND()*(17.3/24-17/24),"HH:MM"),(IF(AF54="E",TEXT(20/24+RAND()*(20.3/24-20/24),"HH:MM"),IF(AF54="N",TEXT(8/24+RAND()*(8.3/24-8/24),"HH:MM"),IF(AF54="GS",TEXT(17/24+RAND()*(17.3/24-17/24),"HH:MM"),""))))) | AH49: WeekOFF | AI49: =COUNTIF(B54:AF54,"O") -> 5
A50: Duration | B50: =IF(B54="M",TEXT(B49-B48,"H:MM"),IF(B54="E",TEXT(B49-B48,"H:MM"),IF(B54="N",TEXT(B49+24-B48+30,"H:MM"),IF(B54="GS",TEXT(B49-B48,"H:MM"),"")))) -> 8:17 | C50: =IF(C54="M",TEXT(C49-C48,"H:MM"),IF(C54="E",TEXT(C49-C48,"H:MM"),IF(C54="N",TEXT(C49+24-C48+30,"H:MM"),IF(C54="GS",TEXT(C49-C48,"H:MM"),"")))) -> 8:17 | D50: =IF(D54="M",TEXT(D49-D48,"H:MM"),IF(D54="E",TEXT(D49-D48,"H:MM"),IF(D54="N",TEXT(D49+24-D48+30,"H:MM"),IF(D54="GS",TEXT(D49-D48,"H:MM"),"")))) | E50: =IF(E54="M",TEXT(E49-E48,"H:MM"),IF(E54="E",TEXT(E49-E48,"H:MM"),IF(E54="N",TEXT(E49+24-E48+30,"H:MM"),IF(E54="GS",TEXT(E49-E48,"H:MM"),"")))) -> 8:00 | F50: =IF(F54="M",TEXT(F49-F48,"H:MM"),IF(F54="E",TEXT(F49-F48,"H:MM"),IF(F54="N",TEXT(F49+24-F48+30,"H:MM"),IF(F54="GS",TEXT(F49-F48,"H:MM"),"")))) -> 7:56 | G50: =IF(G54="M",TEXT(G49-G48,"H:MM"),IF(G54="E",TEXT(G49-G48,"H:MM"),IF(G54="N",TEXT(G49+24-G48+30,"H:MM"),IF(G54="GS",TEXT(G49-G48,"H:MM"),"")))) -> 7:58 | H50: =IF(H54="M",TEXT(H49-H48,"H:MM"),IF(H54="E",TEXT(H49-H48,"H:MM"),IF(H54="N",TEXT(H49+24-H48+30,"H:MM"),IF(H54="GS",TEXT(H49-H48,"H:MM"),"")))) -> 8:23 | I50: =IF(I54="M",TEXT(I49-I48,"H:MM"),IF(I54="E",TEXT(I49-I48,"H:MM"),IF(I54="N",TEXT(I49+24-I48+30,"H:MM"),IF(I54="GS",TEXT(I49-I48,"H:MM"),"")))) -> 8:20 | ... AF50: =IF(AF54="M",TEXT(AF49-AF48,"H:MM"),IF(AF54="E",TEXT(AF49-AF48,"H:MM"),IF(AF54="N",TEXT(AF49+24-AF48+30,"H:MM"),IF(AF54="GS",TEXT(AF49-AF48,"H:MM"),"")))) | AH50: late by days | AI50: =COUNTIF(B51:AF51,(B51:AF51)>0) -> 0
A51: Late By | B51: =IF(AND(B54="GS",B56>$B$19),TEXT(B56-$B$19,"HH:MM"),IF(AND(B54="M",B56>$B$15),TEXT(B56-$B$15,"HH:MM"),IF(AND(B54="E",B56>$B$17),TEXT(B56-$B$17,"HH:MM"),IF(AND(B54="N",B56>$B$18),TEXT(B56-$B$18,"HH:MM"),IF(OR(B54="O",B54="A"),"",0))))) -> 0 | C51: =IF(AND(C54="GS",C56>$B$19),TEXT(C56-$B$19,"HH:MM"),IF(AND(C54="M",C56>$B$15),TEXT(C56-$B$15,"HH:MM"),IF(AND(C54="E",C56>$B$17),TEXT(C56-$B$17,"HH:MM"),IF(AND(C54="N",C56>$B$18),TEXT(C56-$B$18,"HH:MM"),IF(OR(C54="O",C54="A"),"",0))))) -> 0 | D51: =IF(AND(D54="GS",D56>$B$19),TEXT(D56-$B$19,"HH:MM"),IF(AND(D54="M",D56>$B$15),TEXT(D56-$B$15,"HH:MM"),IF(AND(D54="E",D56>$B$17),TEXT(D56-$B$17,"HH:MM"),IF(AND(D54="N",D56>$B$18),TEXT(D56-$B$18,"HH:MM"),IF(OR(D54="O",D54="A"),"",0))))) | E51: =IF(AND(E54="GS",E56>$B$19),TEXT(E56-$B$19,"HH:MM"),IF(AND(E54="M",E56>$B$15),TEXT(E56-$B$15,"HH:MM"),IF(AND(E54="E",E56>$B$17),TEXT(E56-$B$17,"HH:MM"),IF(AND(E54="N",E56>$B$18),TEXT(E56-$B$18,"HH:MM"),IF(OR(E54="O",E54="A"),"",0))))) -> 00:07 | F51: =IF(AND(F54="GS",F56>$B$19),TEXT(F56-$B$19,"HH:MM"),IF(AND(F54="M",F56>$B$15),TEXT(F56-$B$15,"HH:MM"),IF(AND(F54="E",F56>$B$17),TEXT(F56-$B$17,"HH:MM"),IF(AND(F54="N",F56>$B$18),TEXT(F56-$B$18,"HH:MM"),IF(OR(F54="O",F54="A"),"",0))))) -> 00:10 | G51: =IF(AND(G54="GS",G56>$B$19),TEXT(G56-$B$19,"HH:MM"),IF(AND(G54="M",G56>$B$15),TEXT(G56-$B$15,"HH:MM"),IF(AND(G54="E",G56>$B$17),TEXT(G56-$B$17,"HH:MM"),IF(AND(G54="N",G56>$B$18),TEXT(G56-$B$18,"HH:MM"),IF(OR(G54="O",G54="A"),"",0))))) -> 00:02 | H51: =IF(AND(H54="GS",H56>$B$19),TEXT(H56-$B$19,"HH:MM"),IF(AND(H54="M",H56>$B$15),TEXT(H56-$B$15,"HH:MM"),IF(AND(H54="E",H56>$B$17),TEXT(H56-$B$17,"HH:MM"),IF(AND(H54="N",H56>$B$18),TEXT(H56-$B$18,"HH:MM"),IF(OR(H54="O",H54="A"),"",0))))) -> 0 | I51: =IF(AND(I54="GS",I56>$B$19),TEXT(I56-$B$19,"HH:MM"),IF(AND(I54="M",I56>$B$15),TEXT(I56-$B$15,"HH:MM"),IF(AND(I54="E",I56>$B$17),TEXT(I56-$B$17,"HH:MM"),IF(AND(I54="N",I56>$B$18),TEXT(I56-$B$18,"HH:MM"),IF(OR(I54="O",I54="A"),"",0))))) -> 0 | ... AF51: =IF(AND(AF54="GS",AF56>$B$19),TEXT(AF56-$B$19,"HH:MM"),IF(AND(AF54="M",AF56>$B$15),TEXT(AF56-$B$15,"HH:MM"),IF(AND(AF54="E",AF56>$B$17),TEXT(AF56-$B$17,"HH:MM"),IF(AND(AF54="N",AF56>$B$18),TEXT(AF56-$B$18,"HH:MM"),IF(OR(AF54="O",AF54="A"),"",0)))))
A52: Early By
A53: OT
A54: Shift | B54: =Entry!B5 -> GS | C54: =Entry!C5 -> GS | D54: =Entry!D5 -> O | E54: =Entry!E5 -> GS | F54: =Entry!F5 -> GS | G54: =Entry!G5 -> GS | H54: =Entry!H5 -> GS | I54: =Entry!I5 -> GS | ... AF54: =Entry!AF5 -> O
A55: M | B55: 0.33333333
B56: =IF(OR(B54="O",B54="A"),"O ",VALUE(B48)) -> 0.375 | C56: =IF(OR(C54="O",C54="A"),"O ",VALUE(C48)) -> 0.37013889 | D56: =IF(OR(D54="O",D54="A"),"O ",VALUE(D48)) -> O | E56: =IF(OR(E54="O",E54="A"),"O ",VALUE(E48)) -> 0.37986111 | F56: =IF(OR(F54="O",F54="A"),"O ",VALUE(F48)) -> 0.38194444 | G56: =IF(OR(G54="O",G54="A"),"O ",VALUE(G48)) -> 0.37638889 | H56: =IF(OR(H54="O",H54="A"),"O ",VALUE(H48)) -> 0.37083333 | I56: =IF(OR(I54="O",I54="A"),"O ",VALUE(I48)) -> 0.36944444 | ... AF56: =IF(OR(AF54="O",AF54="A"),"O ",VALUE(AF48)) -> O
A57: E | B57: 0.58333333
A58: N | B58: 0.83333333
A59: GS | B59: 0.375
A60: Late | B60: =IF(OR(B54="O",B54="A"),0,VALUE(B51)) -> 0 | C60: =IF(OR(C54="O",C54="A"),0,VALUE(C51)) -> 0 | D60: =IF(OR(D54="O",D54="A"),0,VALUE(D51)) -> 0 | E60: =IF(OR(E54="O",E54="A"),0,VALUE(E51)) -> 0.0048611111 | F60: =IF(OR(F54="O",F54="A"),0,VALUE(F51)) -> 0.0069444444 | G60: =IF(OR(G54="O",G54="A"),0,VALUE(G51)) -> 0.0013888889 | H60: =IF(OR(H54="O",H54="A"),0,VALUE(H51)) -> 0 | I60: =IF(OR(I54="O",I54="A"),0,VALUE(I51)) -> 0 | ... AF60: =IF(OR(AF54="O",AF54="A"),0,VALUE(AF51)) -> 0 | AH60: =SUM(B60:AF60) -> 0.051388889
B61: =IF(OR(B54="O",B54="A"),0,VALUE(B50)) -> 0.34513889 | C61: =IF(OR(C54="O",C54="A"),0,VALUE(C50)) -> 0.34513889 | D61: =IF(OR(D54="O",D54="A"),0,VALUE(D50)) -> 0 | E61: =IF(OR(E54="O",E54="A"),0,VALUE(E50)) -> 0.33333333 | F61: =IF(OR(F54="O",F54="A"),0,VALUE(F50)) -> 0.33055556 | G61: =IF(OR(G54="O",G54="A"),0,VALUE(G50)) -> 0.33194444 | H61: =IF(OR(H54="O",H54="A"),0,VALUE(H50)) -> 0.34930556 | I61: =IF(OR(I54="O",I54="A"),0,VALUE(I50)) -> 0.34722222 | ... AF61: =IF(OR(AF54="O",AF54="A"),0,VALUE(AF50)) -> 0 | AH61: =SUM(B61:AF61) -> 8.8298611
A65: =Entry!A6 -> DR. SANJANA DEBNATH | H65: Total Work Duration: | L65: =AH81 -> 8.7722222 | M65: Hrs. | N65: Total OT: | P65: 0 | Q65: Hrs | R65: Present: | T65: =AI67 -> 26 | U65: Absent: | W65: =AI68 -> 0 | X65: WeeklyOff: | Z65: =AI69 -> 5 | AA65: Holidays: 0 Leaves Taken:0
H66: Late By Hrs: | K66: =AH80 -> 0.09375 | L66: Late By Days: | N66: 0
A67: Status | B67: =IF(B74="M","P",IF(B74="E","P",IF(B74="N","P",IF(B74="GS","P",IF(B74="O","O","A"))))) -> P | C67: =IF(C74="M","P",IF(C74="E","P",IF(C74="N","P",IF(C74="GS","P",IF(C74="O","O","A"))))) -> P | D67: =IF(D74="M","P",IF(D74="E","P",IF(D74="N","P",IF(D74="GS","P",IF(D74="O","O","A"))))) -> O | E67: =IF(E74="M","P",IF(E74="E","P",IF(E74="N","P",IF(E74="GS","P",IF(E74="O","O","A"))))) -> P | F67: =IF(F74="M","P",IF(F74="E","P",IF(F74="N","P",IF(F74="GS","P",IF(F74="O","O","A"))))) -> P | G67: =IF(G74="M","P",IF(G74="E","P",IF(G74="N","P",IF(G74="GS","P",IF(G74="O","O","A"))))) -> P | H67: =IF(H74="M","P",IF(H74="E","P",IF(H74="N","P",IF(H74="GS","P",IF(H74="O","O","A"))))) -> P | I67: =IF(I74="M","P",IF(I74="E","P",IF(I74="N","P",IF(I74="GS","P",IF(I74="O","O","A"))))) -> P | ... AF67: =IF(AF74="M","P",IF(AF74="E","P",IF(AF74="N","P",IF(AF74="GS","P",IF(AF74="O","O","A"))))) -> O | AH67: present | AI67: =COUNTIF(B67:AF67,"P") -> 26
A68: InTime | B68: =IF(B74="M",TEXT(7.8/24+RAND()*(8.3/24-7.8/24),"HH:MM"),(IF(B74="E",TEXT(13.8/24+RAND()*(14.3/24-13.8/24),"HH:MM"),IF(B74="GS",TEXT(8.8/24+RAND()*(9.3/24-8.8/24),"HH:MM"),IF(B74="N",TEXT(19.8/24+RAND()*(20.3/24-19.8/24),"HH:MM"),""))))) -> 09:15 | C68: =IF(C74="M",TEXT(7.8/24+RAND()*(8.3/24-7.8/24),"HH:MM"),(IF(C74="E",TEXT(13.8/24+RAND()*(14.3/24-13.8/24),"HH:MM"),IF(C74="GS",TEXT(8.8/24+RAND()*(9.3/24-8.8/24),"HH:MM"),IF(C74="N",TEXT(19.8/24+RAND()*(20.3/24-19.8/24),"HH:MM"),""))))) -> 08:56 | D68: =IF(D74="M",TEXT(7.8/24+RAND()*(8.3/24-7.8/24),"HH:MM"),(IF(D74="E",TEXT(13.8/24+RAND()*(14.3/24-13.8/24),"HH:MM"),IF(D74="GS",TEXT(8.8/24+RAND()*(9.3/24-8.8/24),"HH:MM"),IF(D74="N",TEXT(19.8/24+RAND()*(20.3/24-19.8/24),"HH:MM"),""))))) | E68: =IF(E74="M",TEXT(7.8/24+RAND()*(8.3/24-7.8/24),"HH:MM"),(IF(E74="E",TEXT(13.8/24+RAND()*(14.3/24-13.8/24),"HH:MM"),IF(E74="GS",TEXT(8.8/24+RAND()*(9.3/24-8.8/24),"HH:MM"),IF(E74="N",TEXT(19.8/24+RAND()*(20.3/24-19.8/24),"HH:MM"),""))))) -> 08:57 | F68: =IF(F74="M",TEXT(7.8/24+RAND()*(8.3/24-7.8/24),"HH:MM"),(IF(F74="E",TEXT(13.8/24+RAND()*(14.3/24-13.8/24),"HH:MM"),IF(F74="GS",TEXT(8.8/24+RAND()*(9.3/24-8.8/24),"HH:MM"),IF(F74="N",TEXT(19.8/24+RAND()*(20.3/24-19.8/24),"HH:MM"),""))))) -> 09:04 | G68: =IF(G74="M",TEXT(7.8/24+RAND()*(8.3/24-7.8/24),"HH:MM"),(IF(G74="E",TEXT(13.8/24+RAND()*(14.3/24-13.8/24),"HH:MM"),IF(G74="GS",TEXT(8.8/24+RAND()*(9.3/24-8.8/24),"HH:MM"),IF(G74="N",TEXT(19.8/24+RAND()*(20.3/24-19.8/24),"HH:MM"),""))))) -> 09:06 | H68: =IF(H74="M",TEXT(7.8/24+RAND()*(8.3/24-7.8/24),"HH:MM"),(IF(H74="E",TEXT(13.8/24+RAND()*(14.3/24-13.8/24),"HH:MM"),IF(H74="GS",TEXT(8.8/24+RAND()*(9.3/24-8.8/24),"HH:MM"),IF(H74="N",TEXT(19.8/24+RAND()*(20.3/24-19.8/24),"HH:MM"),""))))) -> 09:13 | I68: =IF(I74="M",TEXT(7.8/24+RAND()*(8.3/24-7.8/24),"HH:MM"),(IF(I74="E",TEXT(13.8/24+RAND()*(14.3/24-13.8/24),"HH:MM"),IF(I74="GS",TEXT(8.8/24+RAND()*(9.3/24-8.8/24),"HH:MM"),IF(I74="N",TEXT(19.8/24+RAND()*(20.3/24-19.8/24),"HH:MM"),""))))) -> 09:16 | ... AF68: =IF(AF74="M",TEXT(7.8/24+RAND()*(8.3/24-7.8/24),"HH:MM"),(IF(AF74="E",TEXT(13.8/24+RAND()*(14.3/24-13.8/24),"HH:MM"),IF(AF74="GS",TEXT(8.8/24+RAND()*(9.3/24-8.8/24),"HH:MM"),IF(AF74="N",TEXT(19.8/24+RAND()*(20.3/24-19.8/24),"HH:MM"),""))))) | AH68: absent | AI68: =COUNTIF(B67:AF67,"A") -> 0
A69: OutTime | B69: =IF(B74="M",TEXT(17/24+RAND()*(17.3/24-17/24),"HH:MM"),(IF(B74="E",TEXT(20/24+RAND()*(20.3/24-20/24),"HH:MM"),IF(B74="N",TEXT(8/24+RAND()*(8.3/24-8/24),"HH:MM"),IF(B74="GS",TEXT(17/24+RAND()*(17.3/24-17/24),"HH:MM"),""))))) -> 17:15 | C69: =IF(C74="M",TEXT(17/24+RAND()*(17.3/24-17/24),"HH:MM"),(IF(C74="E",TEXT(20/24+RAND()*(20.3/24-20/24),"HH:MM"),IF(C74="N",TEXT(8/24+RAND()*(8.3/24-8/24),"HH:MM"),IF(C74="GS",TEXT(17/24+RAND()*(17.3/24-17/24),"HH:MM"),""))))) -> 17:12 | D69: =IF(D74="M",TEXT(17/24+RAND()*(17.3/24-17/24),"HH:MM"),(IF(D74="E",TEXT(20/24+RAND()*(20.3/24-20/24),"HH:MM"),IF(D74="N",TEXT(8/24+RAND()*(8.3/24-8/24),"HH:MM"),IF(D74="GS",TEXT(17/24+RAND()*(17.3/24-17/24),"HH:MM"),""))))) | E69: =IF(E74="M",TEXT(17/24+RAND()*(17.3/24-17/24),"HH:MM"),(IF(E74="E",TEXT(20/24+RAND()*(20.3/24-20/24),"HH:MM"),IF(E74="N",TEXT(8/24+RAND()*(8.3/24-8/24),"HH:MM"),IF(E74="GS",TEXT(17/24+RAND()*(17.3/24-17/24),"HH:MM"),""))))) -> 17:17 | F69: =IF(F74="M",TEXT(17/24+RAND()*(17.3/24-17/24),"HH:MM"),(IF(F74="E",TEXT(20/24+RAND()*(20.3/24-20/24),"HH:MM"),IF(F74="N",TEXT(8/24+RAND()*(8.3/24-8/24),"HH:MM"),IF(F74="GS",TEXT(17/24+RAND()*(17.3/24-17/24),"HH:MM"),""))))) -> 17:08 | G69: =IF(G74="M",TEXT(17/24+RAND()*(17.3/24-17/24),"HH:MM"),(IF(G74="E",TEXT(20/24+RAND()*(20.3/24-20/24),"HH:MM"),IF(G74="N",TEXT(8/24+RAND()*(8.3/24-8/24),"HH:MM"),IF(G74="GS",TEXT(17/24+RAND()*(17.3/24-17/24),"HH:MM"),""))))) -> 17:12 | H69: =IF(H74="M",TEXT(17/24+RAND()*(17.3/24-17/24),"HH:MM"),(IF(H74="E",TEXT(20/24+RAND()*(20.3/24-20/24),"HH:MM"),IF(H74="N",TEXT(8/24+RAND()*(8.3/24-8/24),"HH:MM"),IF(H74="GS",TEXT(17/24+RAND()*(17.3/24-17/24),"HH:MM"),""))))) -> 17:15 | I69: =IF(I74="M",TEXT(17/24+RAND()*(17.3/24-17/24),"HH:MM"),(IF(I74="E",TEXT(20/24+RAND()*(20.3/24-20/24),"HH:MM"),IF(I74="N",TEXT(8/24+RAND()*(8.3/24-8/24),"HH:MM"),IF(I74="GS",TEXT(17/24+RAND()*(17.3/24-17/24),"HH:MM"),""))))) -> 17:13 | ... AF69: =IF(AF74="M",TEXT(17/24+RAND()*(17.3/24-17/24),"HH:MM"),(IF(AF74="E",TEXT(20/24+RAND()*(20.3/24-20/24),"HH:MM"),IF(AF74="N",TEXT(8/24+RAND()*(8.3/24-8/24),"HH:MM"),IF(AF74="GS",TEXT(17/24+RAND()*(17.3/24-17/24),"HH:MM"),""))))) | AH69: WeekOFF | AI69: =COUNTIF(B74:AF74,"O") -> 5
A70: Duration | B70: =IF(B74="M",TEXT(B69-B68,"H:MM"),IF(B74="E",TEXT(B69-B68,"H:MM"),IF(B74="N",TEXT(B69+24-B68+30,"H:MM"),IF(B74="GS",TEXT(B69-B68,"H:MM"),"")))) -> 8:00 | C70: =IF(C74="M",TEXT(C69-C68,"H:MM"),IF(C74="E",TEXT(C69-C68,"H:MM"),IF(C74="N",TEXT(C69+24-C68+30,"H:MM"),IF(C74="GS",TEXT(C69-C68,"H:MM"),"")))) -> 8:16 | D70: =IF(D74="M",TEXT(D69-D68,"H:MM"),IF(D74="E",TEXT(D69-D68,"H:MM"),IF(D74="N",TEXT(D69+24-D68+30,"H:MM"),IF(D74="GS",TEXT(D69-D68,"H:MM"),"")))) | E70: =IF(E74="M",TEXT(E69-E68,"H:MM"),IF(E74="E",TEXT(E69-E68,"H:MM"),IF(E74="N",TEXT(E69+24-E68+30,"H:MM"),IF(E74="GS",TEXT(E69-E68,"H:MM"),"")))) -> 8:20 | F70: =IF(F74="M",TEXT(F69-F68,"H:MM"),IF(F74="E",TEXT(F69-F68,"H:MM"),IF(F74="N",TEXT(F69+24-F68+30,"H:MM"),IF(F74="GS",TEXT(F69-F68,"H:MM"),"")))) -> 8:04 | G70: =IF(G74="M",TEXT(G69-G68,"H:MM"),IF(G74="E",TEXT(G69-G68,"H:MM"),IF(G74="N",TEXT(G69+24-G68+30,"H:MM"),IF(G74="GS",TEXT(G69-G68,"H:MM"),"")))) -> 8:06 | H70: =IF(H74="M",TEXT(H69-H68,"H:MM"),IF(H74="E",TEXT(H69-H68,"H:MM"),IF(H74="N",TEXT(H69+24-H68+30,"H:MM"),IF(H74="GS",TEXT(H69-H68,"H:MM"),"")))) -> 8:02 | I70: =IF(I74="M",TEXT(I69-I68,"H:MM"),IF(I74="E",TEXT(I69-I68,"H:MM"),IF(I74="N",TEXT(I69+24-I68+30,"H:MM"),IF(I74="GS",TEXT(I69-I68,"H:MM"),"")))) -> 7:57 | ... AF70: =IF(AF74="M",TEXT(AF69-AF68,"H:MM"),IF(AF74="E",TEXT(AF69-AF68,"H:MM"),IF(AF74="N",TEXT(AF69+24-AF68+30,"H:MM"),IF(AF74="GS",TEXT(AF69-AF68,"H:MM"),"")))) | AH70: late by days | AI70: =COUNTIF(B71:AF71,(B71:AF71)>0) -> 0
A71: Late By | B71: =IF(AND(B74="GS",B76>$B$19),TEXT(B76-$B$19,"HH:MM"),IF(AND(B74="M",B76>$B$15),TEXT(B76-$B$15,"HH:MM"),IF(AND(B74="E",B76>$B$17),TEXT(B76-$B$17,"HH:MM"),IF(AND(B74="N",B76>$B$18),TEXT(B76-$B$18,"HH:MM"),IF(OR(B74="O",B74="A"),"",0))))) -> 00:15 | C71: =IF(AND(C74="GS",C76>$B$19),TEXT(C76-$B$19,"HH:MM"),IF(AND(C74="M",C76>$B$15),TEXT(C76-$B$15,"HH:MM"),IF(AND(C74="E",C76>$B$17),TEXT(C76-$B$17,"HH:MM"),IF(AND(C74="N",C76>$B$18),TEXT(C76-$B$18,"HH:MM"),IF(OR(C74="O",C74="A"),"",0))))) -> 0 | D71: =IF(AND(D74="GS",D76>$B$19),TEXT(D76-$B$19,"HH:MM"),IF(AND(D74="M",D76>$B$15),TEXT(D76-$B$15,"HH:MM"),IF(AND(D74="E",D76>$B$17),TEXT(D76-$B$17,"HH:MM"),IF(AND(D74="N",D76>$B$18),TEXT(D76-$B$18,"HH:MM"),IF(OR(D74="O",D74="A"),"",0))))) | E71: =IF(AND(E74="GS",E76>$B$19),TEXT(E76-$B$19,"HH:MM"),IF(AND(E74="M",E76>$B$15),TEXT(E76-$B$15,"HH:MM"),IF(AND(E74="E",E76>$B$17),TEXT(E76-$B$17,"HH:MM"),IF(AND(E74="N",E76>$B$18),TEXT(E76-$B$18,"HH:MM"),IF(OR(E74="O",E74="A"),"",0))))) -> 0 | F71: =IF(AND(F74="GS",F76>$B$19),TEXT(F76-$B$19,"HH:MM"),IF(AND(F74="M",F76>$B$15),TEXT(F76-$B$15,"HH:MM"),IF(AND(F74="E",F76>$B$17),TEXT(F76-$B$17,"HH:MM"),IF(AND(F74="N",F76>$B$18),TEXT(F76-$B$18,"HH:MM"),IF(OR(F74="O",F74="A"),"",0))))) -> 00:04 | G71: =IF(AND(G74="GS",G76>$B$19),TEXT(G76-$B$19,"HH:MM"),IF(AND(G74="M",G76>$B$15),TEXT(G76-$B$15,"HH:MM"),IF(AND(G74="E",G76>$B$17),TEXT(G76-$B$17,"HH:MM"),IF(AND(G74="N",G76>$B$18),TEXT(G76-$B$18,"HH:MM"),IF(OR(G74="O",G74="A"),"",0))))) -> 00:06 | H71: =IF(AND(H74="GS",H76>$B$19),TEXT(H76-$B$19,"HH:MM"),IF(AND(H74="M",H76>$B$15),TEXT(H76-$B$15,"HH:MM"),IF(AND(H74="E",H76>$B$17),TEXT(H76-$B$17,"HH:MM"),IF(AND(H74="N",H76>$B$18),TEXT(H76-$B$18,"HH:MM"),IF(OR(H74="O",H74="A"),"",0))))) -> 00:13 | I71: =IF(AND(I74="GS",I76>$B$19),TEXT(I76-$B$19,"HH:MM"),IF(AND(I74="M",I76>$B$15),TEXT(I76-$B$15,"HH:MM"),IF(AND(I74="E",I76>$B$17),TEXT(I76-$B$17,"HH:MM"),IF(AND(I74="N",I76>$B$18),TEXT(I76-$B$18,"HH:MM"),IF(OR(I74="O",I74="A"),"",0))))) -> 00:16 | ... AF71: =IF(AND(AF74="GS",AF76>$B$19),TEXT(AF76-$B$19,"HH:MM"),IF(AND(AF74="M",AF76>$B$15),TEXT(AF76-$B$15,"HH:MM"),IF(AND(AF74="E",AF76>$B$17),TEXT(AF76-$B$17,"HH:MM"),IF(AND(AF74="N",AF76>$B$18),TEXT(AF76-$B$18,"HH:MM"),IF(OR(AF74="O",AF74="A"),"",0)))))
A72: Early By
A73: OT
A74: Shift | B74: =Entry!B6 -> GS | C74: =Entry!C6 -> GS | D74: =Entry!D6 -> O | E74: =Entry!E6 -> GS | F74: =Entry!F6 -> GS | G74: =Entry!G6 -> GS | H74: =Entry!H6 -> GS | I74: =Entry!I6 -> GS | ... AF74: =Entry!AF6 -> O
A75: M | B75: 0.33333333
B76: =IF(OR(B74="O",B74="A"),"O ",VALUE(B68)) -> 0.38541667 | C76: =IF(OR(C74="O",C74="A"),"O ",VALUE(C68)) -> 0.37222222 | D76: =IF(OR(D74="O",D74="A"),"O ",VALUE(D68)) -> O | E76: =IF(OR(E74="O",E74="A"),"O ",VALUE(E68)) -> 0.37291667 | F76: =IF(OR(F74="O",F74="A"),"O ",VALUE(F68)) -> 0.37777778 | G76: =IF(OR(G74="O",G74="A"),"O ",VALUE(G68)) -> 0.37916667 | H76: =IF(OR(H74="O",H74="A"),"O ",VALUE(H68)) -> 0.38402778 | I76: =IF(OR(I74="O",I74="A"),"O ",VALUE(I68)) -> 0.38611111 | ... AF76: =IF(OR(AF74="O",AF74="A"),"O ",VALUE(AF68)) -> O
A77: E | B77: 0.58333333
A78: N | B78: 0.83333333
A79: GS | B79: 0.375
A80: Late | B80: =IF(OR(B74="O",B74="A"),0,VALUE(B71)) -> 0.010416667 | C80: =IF(OR(C74="O",C74="A"),0,VALUE(C71)) -> 0 | D80: =IF(OR(D74="O",D74="A"),0,VALUE(D71)) -> 0 | E80: =IF(OR(E74="O",E74="A"),0,VALUE(E71)) -> 0 | F80: =IF(OR(F74="O",F74="A"),0,VALUE(F71)) -> 0.0027777778 | G80: =IF(OR(G74="O",G74="A"),0,VALUE(G71)) -> 0.0041666667 | H80: =IF(OR(H74="O",H74="A"),0,VALUE(H71)) -> 0.0090277778 | I80: =IF(OR(I74="O",I74="A"),0,VALUE(I71)) -> 0.011111111 | ... AF80: =IF(OR(AF74="O",AF74="A"),0,VALUE(AF71)) -> 0 | AH80: =SUM(B80:AF80) -> 0.09375
B81: =IF(OR(B74="O",B74="A"),0,VALUE(B70)) -> 0.33333333 | C81: =IF(OR(C74="O",C74="A"),0,VALUE(C70)) -> 0.34444444 | D81: =IF(OR(D74="O",D74="A"),0,VALUE(D70)) -> 0 | E81: =IF(OR(E74="O",E74="A"),0,VALUE(E70)) -> 0.34722222 | F81: =IF(OR(F74="O",F74="A"),0,VALUE(F70)) -> 0.33611111 | G81: =IF(OR(G74="O",G74="A"),0,VALUE(G70)) -> 0.3375 | H81: =IF(OR(H74="O",H74="A"),0,VALUE(H70)) -> 0.33472222 | I81: =IF(OR(I74="O",I74="A"),0,VALUE(I70)) -> 0.33125 | ... AF81: =IF(OR(AF74="O",AF74="A"),0,VALUE(AF70)) -> 0 | AH81: =SUM(B81:AF81) -> 8.7722222
A85: =Entry!A7 -> DR. JAYA SINGH KHARSON | H85: Total Work Duration: | L85: =AH101 -> 8.7680556 | M85: Hrs. | N85: Total OT: | P85: 0 | Q85: Hrs | R85: Present: | T85: =AI87 -> 26 | U85: Absent: | W85: =AI88 -> 0 | X85: WeeklyOff: | Z85: =AI89 -> 5 | AA85: Holidays: 0 Leaves Taken:0
H86: Late By Hrs: | K86: =AH100 -> 0.1 | L86: Late By Days: | N86: 0
A87: Status | B87: =IF(B94="M","P",IF(B94="E","P",IF(B94="N","P",IF(B94="GS","P",IF(B94="O","O","A"))))) -> P | C87: =IF(C94="M","P",IF(C94="E","P",IF(C94="N","P",IF(C94="GS","P",IF(C94="O","O","A"))))) -> P | D87: =IF(D94="M","P",IF(D94="E","P",IF(D94="N","P",IF(D94="GS","P",IF(D94="O","O","A"))))) -> O | E87: =IF(E94="M","P",IF(E94="E","P",IF(E94="N","P",IF(E94="GS","P",IF(E94="O","O","A"))))) -> P | F87: =IF(F94="M","P",IF(F94="E","P",IF(F94="N","P",IF(F94="GS","P",IF(F94="O","O","A"))))) -> P | G87: =IF(G94="M","P",IF(G94="E","P",IF(G94="N","P",IF(G94="GS","P",IF(G94="O","O","A"))))) -> P | H87: =IF(H94="M","P",IF(H94="E","P",IF(H94="N","P",IF(H94="GS","P",IF(H94="O","O","A"))))) -> P | I87: =IF(I94="M","P",IF(I94="E","P",IF(I94="N","P",IF(I94="GS","P",IF(I94="O","O","A"))))) -> P | ... AF87: =IF(AF94="M","P",IF(AF94="E","P",IF(AF94="N","P",IF(AF94="GS","P",IF(AF94="O","O","A"))))) -> O | AH87: present | AI87: =COUNTIF(B87:AF87,"P") -> 26
A88: InTime | B88: =IF(B94="M",TEXT(7.8/24+RAND()*(8.3/24-7.8/24),"HH:MM"),(IF(B94="E",TEXT(13.8/24+RAND()*(14.3/24-13.8/24),"HH:MM"),IF(B94="GS",TEXT(8.8/24+RAND()*(9.3/24-8.8/24),"HH:MM"),IF(B94="N",TEXT(19.8/24+RAND()*(20.3/24-19.8/24),"HH:MM"),""))))) -> 08:53 | C88: =IF(C94="M",TEXT(7.8/24+RAND()*(8.3/24-7.8/24),"HH:MM"),(IF(C94="E",TEXT(13.8/24+RAND()*(14.3/24-13.8/24),"HH:MM"),IF(C94="GS",TEXT(8.8/24+RAND()*(9.3/24-8.8/24),"HH:MM"),IF(C94="N",TEXT(19.8/24+RAND()*(20.3/24-19.8/24),"HH:MM"),""))))) -> 08:55 | D88: =IF(D94="M",TEXT(7.8/24+RAND()*(8.3/24-7.8/24),"HH:MM"),(IF(D94="E",TEXT(13.8/24+RAND()*(14.3/24-13.8/24),"HH:MM"),IF(D94="GS",TEXT(8.8/24+RAND()*(9.3/24-8.8/24),"HH:MM"),IF(D94="N",TEXT(19.8/24+RAND()*(20.3/24-19.8/24),"HH:MM"),""))))) | E88: =IF(E94="M",TEXT(7.8/24+RAND()*(8.3/24-7.8/24),"HH:MM"),(IF(E94="E",TEXT(13.8/24+RAND()*(14.3/24-13.8/24),"HH:MM"),IF(E94="GS",TEXT(8.8/24+RAND()*(9.3/24-8.8/24),"HH:MM"),IF(E94="N",TEXT(19.8/24+RAND()*(20.3/24-19.8/24),"HH:MM"),""))))) -> 08:59 | F88: =IF(F94="M",TEXT(7.8/24+RAND()*(8.3/24-7.8/24),"HH:MM"),(IF(F94="E",TEXT(13.8/24+RAND()*(14.3/24-13.8/24),"HH:MM"),IF(F94="GS",TEXT(8.8/24+RAND()*(9.3/24-8.8/24),"HH:MM"),IF(F94="N",TEXT(19.8/24+RAND()*(20.3/24-19.8/24),"HH:MM"),""))))) -> 08:49 | G88: =IF(G94="M",TEXT(7.8/24+RAND()*(8.3/24-7.8/24),"HH:MM"),(IF(G94="E",TEXT(13.8/24+RAND()*(14.3/24-13.8/24),"HH:MM"),IF(G94="GS",TEXT(8.8/24+RAND()*(9.3/24-8.8/24),"HH:MM"),IF(G94="N",TEXT(19.8/24+RAND()*(20.3/24-19.8/24),"HH:MM"),""))))) -> 09:12 | H88: =IF(H94="M",TEXT(7.8/24+RAND()*(8.3/24-7.8/24),"HH:MM"),(IF(H94="E",TEXT(13.8/24+RAND()*(14.3/24-13.8/24),"HH:MM"),IF(H94="GS",TEXT(8.8/24+RAND()*(9.3/24-8.8/24),"HH:MM"),IF(H94="N",TEXT(19.8/24+RAND()*(20.3/24-19.8/24),"HH:MM"),""))))) -> 09:01 | I88: =IF(I94="M",TEXT(7.8/24+RAND()*(8.3/24-7.8/24),"HH:MM"),(IF(I94="E",TEXT(13.8/24+RAND()*(14.3/24-13.8/24),"HH:MM"),IF(I94="GS",TEXT(8.8/24+RAND()*(9.3/24-8.8/24),"HH:MM"),IF(I94="N",TEXT(19.8/24+RAND()*(20.3/24-19.8/24),"HH:MM"),""))))) -> 09:02 | ... AF88: =IF(AF94="M",TEXT(7.8/24+RAND()*(8.3/24-7.8/24),"HH:MM"),(IF(AF94="E",TEXT(13.8/24+RAND()*(14.3/24-13.8/24),"HH:MM"),IF(AF94="GS",TEXT(8.8/24+RAND()*(9.3/24-8.8/24),"HH:MM"),IF(AF94="N",TEXT(19.8/24+RAND()*(20.3/24-19.8/24),"HH:MM"),""))))) | AH88: absent | AI88: =COUNTIF(B87:AF87,"A") -> 0
A89: OutTime | B89: =IF(B94="M",TEXT(17/24+RAND()*(17.3/24-17/24),"HH:MM"),(IF(B94="E",TEXT(20/24+RAND()*(20.3/24-20/24),"HH:MM"),IF(B94="N",TEXT(8/24+RAND()*(8.3/24-8/24),"HH:MM"),IF(B94="GS",TEXT(17/24+RAND()*(17.3/24-17/24),"HH:MM"),""))))) -> 17:15 | C89: =IF(C94="M",TEXT(17/24+RAND()*(17.3/24-17/24),"HH:MM"),(IF(C94="E",TEXT(20/24+RAND()*(20.3/24-20/24),"HH:MM"),IF(C94="N",TEXT(8/24+RAND()*(8.3/24-8/24),"HH:MM"),IF(C94="GS",TEXT(17/24+RAND()*(17.3/24-17/24),"HH:MM"),""))))) -> 17:14 | D89: =IF(D94="M",TEXT(17/24+RAND()*(17.3/24-17/24),"HH:MM"),(IF(D94="E",TEXT(20/24+RAND()*(20.3/24-20/24),"HH:MM"),IF(D94="N",TEXT(8/24+RAND()*(8.3/24-8/24),"HH:MM"),IF(D94="GS",TEXT(17/24+RAND()*(17.3/24-17/24),"HH:MM"),""))))) | E89: =IF(E94="M",TEXT(17/24+RAND()*(17.3/24-17/24),"HH:MM"),(IF(E94="E",TEXT(20/24+RAND()*(20.3/24-20/24),"HH:MM"),IF(E94="N",TEXT(8/24+RAND()*(8.3/24-8/24),"HH:MM"),IF(E94="GS",TEXT(17/24+RAND()*(17.3/24-17/24),"HH:MM"),""))))) -> 17:02 | F89: =IF(F94="M",TEXT(17/24+RAND()*(17.3/24-17/24),"HH:MM"),(IF(F94="E",TEXT(20/24+RAND()*(20.3/24-20/24),"HH:MM"),IF(F94="N",TEXT(8/24+RAND()*(8.3/24-8/24),"HH:MM"),IF(F94="GS",TEXT(17/24+RAND()*(17.3/24-17/24),"HH:MM"),""))))) -> 17:10 | G89: =IF(G94="M",TEXT(17/24+RAND()*(17.3/24-17/24),"HH:MM"),(IF(G94="E",TEXT(20/24+RAND()*(20.3/24-20/24),"HH:MM"),IF(G94="N",TEXT(8/24+RAND()*(8.3/24-8/24),"HH:MM"),IF(G94="GS",TEXT(17/24+RAND()*(17.3/24-17/24),"HH:MM"),""))))) -> 17:17 | H89: =IF(H94="M",TEXT(17/24+RAND()*(17.3/24-17/24),"HH:MM"),(IF(H94="E",TEXT(20/24+RAND()*(20.3/24-20/24),"HH:MM"),IF(H94="N",TEXT(8/24+RAND()*(8.3/24-8/24),"HH:MM"),IF(H94="GS",TEXT(17/24+RAND()*(17.3/24-17/24),"HH:MM"),""))))) -> 17:13 | I89: =IF(I94="M",TEXT(17/24+RAND()*(17.3/24-17/24),"HH:MM"),(IF(I94="E",TEXT(20/24+RAND()*(20.3/24-20/24),"HH:MM"),IF(I94="N",TEXT(8/24+RAND()*(8.3/24-8/24),"HH:MM"),IF(I94="GS",TEXT(17/24+RAND()*(17.3/24-17/24),"HH:MM"),""))))) -> 17:10 | ... AF89: =IF(AF94="M",TEXT(17/24+RAND()*(17.3/24-17/24),"HH:MM"),(IF(AF94="E",TEXT(20/24+RAND()*(20.3/24-20/24),"HH:MM"),IF(AF94="N",TEXT(8/24+RAND()*(8.3/24-8/24),"HH:MM"),IF(AF94="GS",TEXT(17/24+RAND()*(17.3/24-17/24),"HH:MM"),""))))) | AH89: WeekOFF | AI89: =COUNTIF(B94:AF94,"O") -> 5
A90: Duration | B90: =IF(B94="M",TEXT(B89-B88,"H:MM"),IF(B94="E",TEXT(B89-B88,"H:MM"),IF(B94="N",TEXT(B89+24-B88+30,"H:MM"),IF(B94="GS",TEXT(B89-B88,"H:MM"),"")))) -> 8:22 | C90: =IF(C94="M",TEXT(C89-C88,"H:MM"),IF(C94="E",TEXT(C89-C88,"H:MM"),IF(C94="N",TEXT(C89+24-C88+30,"H:MM"),IF(C94="GS",TEXT(C89-C88,"H:MM"),"")))) -> 8:19 | D90: =IF(D94="M",TEXT(D89-D88,"H:MM"),IF(D94="E",TEXT(D89-D88,"H:MM"),IF(D94="N",TEXT(D89+24-D88+30,"H:MM"),IF(D94="GS",TEXT(D89-D88,"H:MM"),"")))) | E90: =IF(E94="M",TEXT(E89-E88,"H:MM"),IF(E94="E",TEXT(E89-E88,"H:MM"),IF(E94="N",TEXT(E89+24-E88+30,"H:MM"),IF(E94="GS",TEXT(E89-E88,"H:MM"),"")))) -> 8:03 | F90: =IF(F94="M",TEXT(F89-F88,"H:MM"),IF(F94="E",TEXT(F89-F88,"H:MM"),IF(F94="N",TEXT(F89+24-F88+30,"H:MM"),IF(F94="GS",TEXT(F89-F88,"H:MM"),"")))) -> 8:21 | G90: =IF(G94="M",TEXT(G89-G88,"H:MM"),IF(G94="E",TEXT(G89-G88,"H:MM"),IF(G94="N",TEXT(G89+24-G88+30,"H:MM"),IF(G94="GS",TEXT(G89-G88,"H:MM"),"")))) -> 8:05 | H90: =IF(H94="M",TEXT(H89-H88,"H:MM"),IF(H94="E",TEXT(H89-H88,"H:MM"),IF(H94="N",TEXT(H89+24-H88+30,"H:MM"),IF(H94="GS",TEXT(H89-H88,"H:MM"),"")))) -> 8:12 | I90: =IF(I94="M",TEXT(I89-I88,"H:MM"),IF(I94="E",TEXT(I89-I88,"H:MM"),IF(I94="N",TEXT(I89+24-I88+30,"H:MM"),IF(I94="GS",TEXT(I89-I88,"H:MM"),"")))) -> 8:08 | ... AF90: =IF(AF94="M",TEXT(AF89-AF88,"H:MM"),IF(AF94="E",TEXT(AF89-AF88,"H:MM"),IF(AF94="N",TEXT(AF89+24-AF88+30,"H:MM"),IF(AF94="GS",TEXT(AF89-AF88,"H:MM"),"")))) | AH90: late by days | AI90: =COUNTIF(B91:AF91,(B91:AF91)>0) -> 0
A91: Late By | B91: =IF(AND(B94="GS",B96>$B$19),TEXT(B96-$B$19,"HH:MM"),IF(AND(B94="M",B96>$B$15),TEXT(B96-$B$15,"HH:MM"),IF(AND(B94="E",B96>$B$17),TEXT(B96-$B$17,"HH:MM"),IF(AND(B94="N",B96>$B$18),TEXT(B96-$B$18,"HH:MM"),IF(OR(B94="O",B94="A"),"",0))))) -> 0 | C91: =IF(AND(C94="GS",C96>$B$19),TEXT(C96-$B$19,"HH:MM"),IF(AND(C94="M",C96>$B$15),TEXT(C96-$B$15,"HH:MM"),IF(AND(C94="E",C96>$B$17),TEXT(C96-$B$17,"HH:MM"),IF(AND(C94="N",C96>$B$18),TEXT(C96-$B$18,"HH:MM"),IF(OR(C94="O",C94="A"),"",0))))) -> 0 | D91: =IF(AND(D94="GS",D96>$B$19),TEXT(D96-$B$19,"HH:MM"),IF(AND(D94="M",D96>$B$15),TEXT(D96-$B$15,"HH:MM"),IF(AND(D94="E",D96>$B$17),TEXT(D96-$B$17,"HH:MM"),IF(AND(D94="N",D96>$B$18),TEXT(D96-$B$18,"HH:MM"),IF(OR(D94="O",D94="A"),"",0))))) | E91: =IF(AND(E94="GS",E96>$B$19),TEXT(E96-$B$19,"HH:MM"),IF(AND(E94="M",E96>$B$15),TEXT(E96-$B$15,"HH:MM"),IF(AND(E94="E",E96>$B$17),TEXT(E96-$B$17,"HH:MM"),IF(AND(E94="N",E96>$B$18),TEXT(E96-$B$18,"HH:MM"),IF(OR(E94="O",E94="A"),"",0))))) -> 0 | F91: =IF(AND(F94="GS",F96>$B$19),TEXT(F96-$B$19,"HH:MM"),IF(AND(F94="M",F96>$B$15),TEXT(F96-$B$15,"HH:MM"),IF(AND(F94="E",F96>$B$17),TEXT(F96-$B$17,"HH:MM"),IF(AND(F94="N",F96>$B$18),TEXT(F96-$B$18,"HH:MM"),IF(OR(F94="O",F94="A"),"",0))))) -> 0 | G91: =IF(AND(G94="GS",G96>$B$19),TEXT(G96-$B$19,"HH:MM"),IF(AND(G94="M",G96>$B$15),TEXT(G96-$B$15,"HH:MM"),IF(AND(G94="E",G96>$B$17),TEXT(G96-$B$17,"HH:MM"),IF(AND(G94="N",G96>$B$18),TEXT(G96-$B$18,"HH:MM"),IF(OR(G94="O",G94="A"),"",0))))) -> 00:12 | H91: =IF(AND(H94="GS",H96>$B$19),TEXT(H96-$B$19,"HH:MM"),IF(AND(H94="M",H96>$B$15),TEXT(H96-$B$15,"HH:MM"),IF(AND(H94="E",H96>$B$17),TEXT(H96-$B$17,"HH:MM"),IF(AND(H94="N",H96>$B$18),TEXT(H96-$B$18,"HH:MM"),IF(OR(H94="O",H94="A"),"",0))))) -> 00:01 | I91: =IF(AND(I94="GS",I96>$B$19),TEXT(I96-$B$19,"HH:MM"),IF(AND(I94="M",I96>$B$15),TEXT(I96-$B$15,"HH:MM"),IF(AND(I94="E",I96>$B$17),TEXT(I96-$B$17,"HH:MM"),IF(AND(I94="N",I96>$B$18),TEXT(I96-$B$18,"HH:MM"),IF(OR(I94="O",I94="A"),"",0))))) -> 00:02 | ... AF91: =IF(AND(AF94="GS",AF96>$B$19),TEXT(AF96-$B$19,"HH:MM"),IF(AND(AF94="M",AF96>$B$15),TEXT(AF96-$B$15,"HH:MM"),IF(AND(AF94="E",AF96>$B$17),TEXT(AF96-$B$17,"HH:MM"),IF(AND(AF94="N",AF96>$B$18),TEXT(AF96-$B$18,"HH:MM"),IF(OR(AF94="O",AF94="A"),"",0)))))
A92: Early By
A93: OT
A94: Shift | B94: =Entry!B7 -> GS | C94: =Entry!C7 -> GS | D94: =Entry!D7 -> O | E94: =Entry!E7 -> GS | F94: =Entry!F7 -> GS | G94: =Entry!G7 -> GS | H94: =Entry!H7 -> GS | I94: =Entry!I7 -> GS | ... AF94: =Entry!AF7 -> O
A95: M | B95: 0.33333333
B96: =IF(OR(B94="O",B94="A"),"O ",VALUE(B88)) -> 0.37013889 | C96: =IF(OR(C94="O",C94="A"),"O ",VALUE(C88)) -> 0.37152778 | D96: =IF(OR(D94="O",D94="A"),"O ",VALUE(D88)) -> O | E96: =IF(OR(E94="O",E94="A"),"O ",VALUE(E88)) -> 0.37430556 | F96: =IF(OR(F94="O",F94="A"),"O ",VALUE(F88)) -> 0.36736111 | G96: =IF(OR(G94="O",G94="A"),"O ",VALUE(G88)) -> 0.38333333 | H96: =IF(OR(H94="O",H94="A"),"O ",VALUE(H88)) -> 0.37569444 | I96: =IF(OR(I94="O",I94="A"),"O ",VALUE(I88)) -> 0.37638889 | ... AF96: =IF(OR(AF94="O",AF94="A"),"O ",VALUE(AF88)) -> O
A97: E | B97: 0.58333333
A98: N | B98: 0.83333333
A99: GS | B99: 0.375
A100: Late | B100: =IF(OR(B94="O",B94="A"),0,VALUE(B91)) -> 0 | C100: =IF(OR(C94="O",C94="A"),0,VALUE(C91)) -> 0 | D100: =IF(OR(D94="O",D94="A"),0,VALUE(D91)) -> 0 | E100: =IF(OR(E94="O",E94="A"),0,VALUE(E91)) -> 0 | F100: =IF(OR(F94="O",F94="A"),0,VALUE(F91)) -> 0 | G100: =IF(OR(G94="O",G94="A"),0,VALUE(G91)) -> 0.0083333333 | H100: =IF(OR(H94="O",H94="A"),0,VALUE(H91)) -> 0.00069444444 | I100: =IF(OR(I94="O",I94="A"),0,VALUE(I91)) -> 0.0013888889 | ... AF100: =IF(OR(AF94="O",AF94="A"),0,VALUE(AF91)) -> 0 | AH100: =SUM(B100:AF100) -> 0.1
B101: =IF(OR(B94="O",B94="A"),0,VALUE(B90)) -> 0.34861111 | C101: =IF(OR(C94="O",C94="A"),0,VALUE(C90)) -> 0.34652778 | D101: =IF(OR(D94="O",D94="A"),0,VALUE(D90)) -> 0 | E101: =IF(OR(E94="O",E94="A"),0,VALUE(E90)) -> 0.33541667 | F101: =IF(OR(F94="O",F94="A"),0,VALUE(F90)) -> 0.34791667 | G101: =IF(OR(G94="O",G94="A"),0,VALUE(G90)) -> 0.33680556 | H101: =IF(OR(H94="O",H94="A"),0,VALUE(H90)) -> 0.34166667 | I101: =IF(OR(I94="O",I94="A"),0,VALUE(I90)) -> 0.33888889 | ... AF101: =IF(OR(AF94="O",AF94="A"),0,VALUE(AF90)) -> 0 | AH101: =SUM(B101:AF101) -> 8.7680556
A105: =Entry!A8 -> DR. RAHUL SINGH | H105: Total Work Duration: | L105: =AH121 -> #VALUE! | M105: Hrs. | N105: Total OT: | P105: 0 | Q105: Hrs | R105: Present: | T105: =AI107 -> 25 | U105: Absent: | W105: =AI108 -> 1 | X105: WeeklyOff: | Z105: =AI109 -> 5 | AA105: Holidays: 0 Leaves Taken:0
H106: Late By Hrs: | K106: =AH120 -> #VALUE! | L106: Late By Days: | N106: 0
A107: Status | B107: =IF(B114="M","P",IF(B114="E","P",IF(B114="N","P",IF(B114="GS","P",IF(B114="O","O","A"))))) -> P | C107: =IF(C114="M","P",IF(C114="E","P",IF(C114="N","P",IF(C114="GS","P",IF(C114="O","O","A"))))) -> P | D107: =IF(D114="M","P",IF(D114="E","P",IF(D114="N","P",IF(D114="GS","P",IF(D114="O","O","A"))))) -> O | E107: =IF(E114="M","P",IF(E114="E","P",IF(E114="N","P",IF(E114="GS","P",IF(E114="O","O","A"))))) -> P | F107: =IF(F114="M","P",IF(F114="E","P",IF(F114="N","P",IF(F114="GS","P",IF(F114="O","O","A"))))) -> P | G107: =IF(G114="M","P",IF(G114="E","P",IF(G114="N","P",IF(G114="GS","P",IF(G114="O","O","A"))))) -> P | H107: =IF(H114="M","P",IF(H114="E","P",IF(H114="N","P",IF(H114="GS","P",IF(H114="O","O","A"))))) -> P | I107: =IF(I114="M","P",IF(I114="E","P",IF(I114="N","P",IF(I114="GS","P",IF(I114="O","O","A"))))) -> P | ... AF107: =IF(AF114="M","P",IF(AF114="E","P",IF(AF114="N","P",IF(AF114="GS","P",IF(AF114="O","O","A"))))) -> O | AH107: present | AI107: =COUNTIF(B107:AF107,"P") -> 25
A108: InTime | B108: =IF(B114="M",TEXT(7.8/24+RAND()*(8.3/24-7.8/24),"HH:MM"),(IF(B114="E",TEXT(13.8/24+RAND()*(14.3/24-13.8/24),"HH:MM"),IF(B114="GS",TEXT(8.8/24+RAND()*(9.3/24-8.8/24),"HH:MM"),IF(B114="N",TEXT(19.8/24+RAND()*(20.3/24-19.8/24),"HH:MM"),""))))) -> 08:49 | C108: =IF(C114="M",TEXT(7.8/24+RAND()*(8.3/24-7.8/24),"HH:MM"),(IF(C114="E",TEXT(13.8/24+RAND()*(14.3/24-13.8/24),"HH:MM"),IF(C114="GS",TEXT(8.8/24+RAND()*(9.3/24-8.8/24),"HH:MM"),IF(C114="N",TEXT(19.8/24+RAND()*(20.3/24-19.8/24),"HH:MM"),""))))) -> 08:50 | D108: =IF(D114="M",TEXT(7.8/24+RAND()*(8.3/24-7.8/24),"HH:MM"),(IF(D114="E",TEXT(13.8/24+RAND()*(14.3/24-13.8/24),"HH:MM"),IF(D114="GS",TEXT(8.8/24+RAND()*(9.3/24-8.8/24),"HH:MM"),IF(D114="N",TEXT(19.8/24+RAND()*(20.3/24-19.8/24),"HH:MM"),""))))) | E108: =IF(E114="M",TEXT(7.8/24+RAND()*(8.3/24-7.8/24),"HH:MM"),(IF(E114="E",TEXT(13.8/24+RAND()*(14.3/24-13.8/24),"HH:MM"),IF(E114="GS",TEXT(8.8/24+RAND()*(9.3/24-8.8/24),"HH:MM"),IF(E114="N",TEXT(19.8/24+RAND()*(20.3/24-19.8/24),"HH:MM"),""))))) -> 09:12 | F108: =IF(F114="M",TEXT(7.8/24+RAND()*(8.3/24-7.8/24),"HH:MM"),(IF(F114="E",TEXT(13.8/24+RAND()*(14.3/24-13.8/24),"HH:MM"),IF(F114="GS",TEXT(8.8/24+RAND()*(9.3/24-8.8/24),"HH:MM"),IF(F114="N",TEXT(19.8/24+RAND()*(20.3/24-19.8/24),"HH:MM"),""))))) -> 08:59 | G108: =IF(G114="M",TEXT(7.8/24+RAND()*(8.3/24-7.8/24),"HH:MM"),(IF(G114="E",TEXT(13.8/24+RAND()*(14.3/24-13.8/24),"HH:MM"),IF(G114="GS",TEXT(8.8/24+RAND()*(9.3/24-8.8/24),"HH:MM"),IF(G114="N",TEXT(19.8/24+RAND()*(20.3/24-19.8/24),"HH:MM"),""))))) -> 08:53 | H108: =IF(H114="M",TEXT(7.8/24+RAND()*(8.3/24-7.8/24),"HH:MM"),(IF(H114="E",TEXT(13.8/24+RAND()*(14.3/24-13.8/24),"HH:MM"),IF(H114="GS",TEXT(8.8/24+RAND()*(9.3/24-8.8/24),"HH:MM"),IF(H114="N",TEXT(19.8/24+RAND()*(20.3/24-19.8/24),"HH:MM"),""))))) -> 09:13 | I108: =IF(I114="M",TEXT(7.8/24+RAND()*(8.3/24-7.8/24),"HH:MM"),(IF(I114="E",TEXT(13.8/24+RAND()*(14.3/24-13.8/24),"HH:MM"),IF(I114="GS",TEXT(8.8/24+RAND()*(9.3/24-8.8/24),"HH:MM"),IF(I114="N",TEXT(19.8/24+RAND()*(20.3/24-19.8/24),"HH:MM"),""))))) -> 09:10 | ... AF108: =IF(AF114="M",TEXT(7.8/24+RAND()*(8.3/24-7.8/24),"HH:MM"),(IF(AF114="E",TEXT(13.8/24+RAND()*(14.3/24-13.8/24),"HH:MM"),IF(AF114="GS",TEXT(8.8/24+RAND()*(9.3/24-8.8/24),"HH:MM"),IF(AF114="N",TEXT(19.8/24+RAND()*(20.3/24-19.8/24),"HH:MM"),""))))) | AH108: absent | AI108: =COUNTIF(B107:AF107,"A") -> 1
A109: OutTime | B109: =IF(B114="M",TEXT(17/24+RAND()*(17.3/24-17/24),"HH:MM"),(IF(B114="E",TEXT(20/24+RAND()*(20.3/24-20/24),"HH:MM"),IF(B114="N",TEXT(8/24+RAND()*(8.3/24-8/24),"HH:MM"),IF(B114="GS",TEXT(17/24+RAND()*(17.3/24-17/24),"HH:MM"),""))))) -> 17:14 | C109: =IF(C114="M",TEXT(17/24+RAND()*(17.3/24-17/24),"HH:MM"),(IF(C114="E",TEXT(20/24+RAND()*(20.3/24-20/24),"HH:MM"),IF(C114="N",TEXT(8/24+RAND()*(8.3/24-8/24),"HH:MM"),IF(C114="GS",TEXT(17/24+RAND()*(17.3/24-17/24),"HH:MM"),""))))) -> 17:11 | D109: =IF(D114="M",TEXT(17/24+RAND()*(17.3/24-17/24),"HH:MM"),(IF(D114="E",TEXT(20/24+RAND()*(20.3/24-20/24),"HH:MM"),IF(D114="N",TEXT(8/24+RAND()*(8.3/24-8/24),"HH:MM"),IF(D114="GS",TEXT(17/24+RAND()*(17.3/24-17/24),"HH:MM"),""))))) | E109: =IF(E114="M",TEXT(17/24+RAND()*(17.3/24-17/24),"HH:MM"),(IF(E114="E",TEXT(20/24+RAND()*(20.3/24-20/24),"HH:MM"),IF(E114="N",TEXT(8/24+RAND()*(8.3/24-8/24),"HH:MM"),IF(E114="GS",TEXT(17/24+RAND()*(17.3/24-17/24),"HH:MM"),""))))) -> 17:04 | F109: =IF(F114="M",TEXT(17/24+RAND()*(17.3/24-17/24),"HH:MM"),(IF(F114="E",TEXT(20/24+RAND()*(20.3/24-20/24),"HH:MM"),IF(F114="N",TEXT(8/24+RAND()*(8.3/24-8/24),"HH:MM"),IF(F114="GS",TEXT(17/24+RAND()*(17.3/24-17/24),"HH:MM"),""))))) -> 17:01 | G109: =IF(G114="M",TEXT(17/24+RAND()*(17.3/24-17/24),"HH:MM"),(IF(G114="E",TEXT(20/24+RAND()*(20.3/24-20/24),"HH:MM"),IF(G114="N",TEXT(8/24+RAND()*(8.3/24-8/24),"HH:MM"),IF(G114="GS",TEXT(17/24+RAND()*(17.3/24-17/24),"HH:MM"),""))))) -> 17:14 | H109: =IF(H114="M",TEXT(17/24+RAND()*(17.3/24-17/24),"HH:MM"),(IF(H114="E",TEXT(20/24+RAND()*(20.3/24-20/24),"HH:MM"),IF(H114="N",TEXT(8/24+RAND()*(8.3/24-8/24),"HH:MM"),IF(H114="GS",TEXT(17/24+RAND()*(17.3/24-17/24),"HH:MM"),""))))) -> 17:11 | I109: =IF(I114="M",TEXT(17/24+RAND()*(17.3/24-17/24),"HH:MM"),(IF(I114="E",TEXT(20/24+RAND()*(20.3/24-20/24),"HH:MM"),IF(I114="N",TEXT(8/24+RAND()*(8.3/24-8/24),"HH:MM"),IF(I114="GS",TEXT(17/24+RAND()*(17.3/24-17/24),"HH:MM"),""))))) -> 17:01 | ... AF109: =IF(AF114="M",TEXT(17/24+RAND()*(17.3/24-17/24),"HH:MM"),(IF(AF114="E",TEXT(20/24+RAND()*(20.3/24-20/24),"HH:MM"),IF(AF114="N",TEXT(8/24+RAND()*(8.3/24-8/24),"HH:MM"),IF(AF114="GS",TEXT(17/24+RAND()*(17.3/24-17/24),"HH:MM"),""))))) | AH109: WeekOFF | AI109: =COUNTIF(B114:AF114,"O") -> 5
A110: Duration | B110: =IF(B114="M",TEXT(B109-B108,"H:MM"),IF(B114="E",TEXT(B109-B108,"H:MM"),IF(B114="N",TEXT(B109+24-B108+30,"H:MM"),IF(B114="GS",TEXT(B109-B108,"H:MM"),"")))) -> 8:25 | C110: =IF(C114="M",TEXT(C109-C108,"H:MM"),IF(C114="E",TEXT(C109-C108,"H:MM"),IF(C114="N",TEXT(C109+24-C108+30,"H:MM"),IF(C114="GS",TEXT(C109-C108,"H:MM"),"")))) -> 8:21 | D110: =IF(D114="M",TEXT(D109-D108,"H:MM"),IF(D114="E",TEXT(D109-D108,"H:MM"),IF(D114="N",TEXT(D109+24-D108+30,"H:MM"),IF(D114="GS",TEXT(D109-D108,"H:MM"),"")))) | E110: =IF(E114="M",TEXT(E109-E108,"H:MM"),IF(E114="E",TEXT(E109-E108,"H:MM"),IF(E114="N",TEXT(E109+24-E108+30,"H:MM"),IF(E114="GS",TEXT(E109-E108,"H:MM"),"")))) -> 7:52 | F110: =IF(F114="M",TEXT(F109-F108,"H:MM"),IF(F114="E",TEXT(F109-F108,"H:MM"),IF(F114="N",TEXT(F109+24-F108+30,"H:MM"),IF(F114="GS",TEXT(F109-F108,"H:MM"),"")))) -> 8:02 | G110: =IF(G114="M",TEXT(G109-G108,"H:MM"),IF(G114="E",TEXT(G109-G108,"H:MM"),IF(G114="N",TEXT(G109+24-G108+30,"H:MM"),IF(G114="GS",TEXT(G109-G108,"H:MM"),"")))) -> 8:21 | H110: =IF(H114="M",TEXT(H109-H108,"H:MM"),IF(H114="E",TEXT(H109-H108,"H:MM"),IF(H114="N",TEXT(H109+24-H108+30,"H:MM"),IF(H114="GS",TEXT(H109-H108,"H:MM"),"")))) -> 7:58 | I110: =IF(I114="M",TEXT(I109-I108,"H:MM"),IF(I114="E",TEXT(I109-I108,"H:MM"),IF(I114="N",TEXT(I109+24-I108+30,"H:MM"),IF(I114="GS",TEXT(I109-I108,"H:MM"),"")))) -> 7:51 | ... AF110: =IF(AF114="M",TEXT(AF109-AF108,"H:MM"),IF(AF114="E",TEXT(AF109-AF108,"H:MM"),IF(AF114="N",TEXT(AF109+24-AF108+30,"H:MM"),IF(AF114="GS",TEXT(AF109-AF108,"H:MM"),"")))) | AH110: late by days | AI110: =COUNTIF(B111:AF111,(B111:AF111)>0) -> 1
A111: Late By | B111: =IF(AND(B114="GS",B116>$B$19),TEXT(B116-$B$19,"HH:MM"),IF(AND(B114="M",B116>$B$15),TEXT(B116-$B$15,"HH:MM"),IF(AND(B114="E",B116>$B$17),TEXT(B116-$B$17,"HH:MM"),IF(AND(B114="N",B116>$B$18),TEXT(B116-$B$18,"HH:MM"),IF(OR(B114="O",B114="A"),"",0))))) -> 0 | C111: =IF(AND(C114="GS",C116>$B$19),TEXT(C116-$B$19,"HH:MM"),IF(AND(C114="M",C116>$B$15),TEXT(C116-$B$15,"HH:MM"),IF(AND(C114="E",C116>$B$17),TEXT(C116-$B$17,"HH:MM"),IF(AND(C114="N",C116>$B$18),TEXT(C116-$B$18,"HH:MM"),IF(OR(C114="O",C114="A"),"",0))))) -> 0 | D111: =IF(AND(D114="GS",D116>$B$19),TEXT(D116-$B$19,"HH:MM"),IF(AND(D114="M",D116>$B$15),TEXT(D116-$B$15,"HH:MM"),IF(AND(D114="E",D116>$B$17),TEXT(D116-$B$17,"HH:MM"),IF(AND(D114="N",D116>$B$18),TEXT(D116-$B$18,"HH:MM"),IF(OR(D114="O",D114="A"),"",0))))) | E111: =IF(AND(E114="GS",E116>$B$19),TEXT(E116-$B$19,"HH:MM"),IF(AND(E114="M",E116>$B$15),TEXT(E116-$B$15,"HH:MM"),IF(AND(E114="E",E116>$B$17),TEXT(E116-$B$17,"HH:MM"),IF(AND(E114="N",E116>$B$18),TEXT(E116-$B$18,"HH:MM"),IF(OR(E114="O",E114="A"),"",0))))) -> 00:12 | F111: =IF(AND(F114="GS",F116>$B$19),TEXT(F116-$B$19,"HH:MM"),IF(AND(F114="M",F116>$B$15),TEXT(F116-$B$15,"HH:MM"),IF(AND(F114="E",F116>$B$17),TEXT(F116-$B$17,"HH:MM"),IF(AND(F114="N",F116>$B$18),TEXT(F116-$B$18,"HH:MM"),IF(OR(F114="O",F114="A"),"",0))))) -> 0 | G111: =IF(AND(G114="GS",G116>$B$19),TEXT(G116-$B$19,"HH:MM"),IF(AND(G114="M",G116>$B$15),TEXT(G116-$B$15,"HH:MM"),IF(AND(G114="E",G116>$B$17),TEXT(G116-$B$17,"HH:MM"),IF(AND(G114="N",G116>$B$18),TEXT(G116-$B$18,"HH:MM"),IF(OR(G114="O",G114="A"),"",0))))) -> 0 | H111: =IF(AND(H114="GS",H116>$B$19),TEXT(H116-$B$19,"HH:MM"),IF(AND(H114="M",H116>$B$15),TEXT(H116-$B$15,"HH:MM"),IF(AND(H114="E",H116>$B$17),TEXT(H116-$B$17,"HH:MM"),IF(AND(H114="N",H116>$B$18),TEXT(H116-$B$18,"HH:MM"),IF(OR(H114="O",H114="A"),"",0))))) -> 00:13 | I111: =IF(AND(I114="GS",I116>$B$19),TEXT(I116-$B$19,"HH:MM"),IF(AND(I114="M",I116>$B$15),TEXT(I116-$B$15,"HH:MM"),IF(AND(I114="E",I116>$B$17),TEXT(I116-$B$17,"HH:MM"),IF(AND(I114="N",I116>$B$18),TEXT(I116-$B$18,"HH:MM"),IF(OR(I114="O",I114="A"),"",0))))) -> 00:10 | ... AF111: =IF(AND(AF114="GS",AF116>$B$19),TEXT(AF116-$B$19,"HH:MM"),IF(AND(AF114="M",AF116>$B$15),TEXT(AF116-$B$15,"HH:MM"),IF(AND(AF114="E",AF116>$B$17),TEXT(AF116-$B$17,"HH:MM"),IF(AND(AF114="N",AF116>$B$18),TEXT(AF116-$B$18,"HH:MM"),IF(OR(AF114="O",AF114="A"),"",0)))))
A112: Early By
A113: OT
A114: Shift | B114: =Entry!B8 -> GS | C114: =Entry!C8 -> GS | D114: =Entry!D8 -> O | E114: =Entry!E8 -> GS | F114: =Entry!F8 -> GS | G114: =Entry!G8 -> GS | H114: =Entry!H8 -> GS | I114: =Entry!I8 -> GS | ... S114: =Entry!S8 -> GS | T114: 0 | U114: =Entry!U8 -> GS | V114: =Entry!V8 -> GS | W114: =Entry!W8 -> GS | X114: =Entry!X8 -> GS | Y114: =Entry!Y8 -> O | Z114: =Entry!Z8 -> GS | AA114: =Entry!AA8 -> GS | AB114: =Entry!AB8 -> GS | ... AF114: =Entry!AF8 -> O
A115: M | B115: 0.33333333
B116: =IF(OR(B114="O",B114="A"),"O ",VALUE(B108)) -> 0.36736111 | C116: =IF(OR(C114="O",C114="A"),"O ",VALUE(C108)) -> 0.36805556 | D116: =IF(OR(D114="O",D114="A"),"O ",VALUE(D108)) -> O | E116: =IF(OR(E114="O",E114="A"),"O ",VALUE(E108)) -> 0.38333333 | F116: =IF(OR(F114="O",F114="A"),"O ",VALUE(F108)) -> 0.37430556 | G116: =IF(OR(G114="O",G114="A"),"O ",VALUE(G108)) -> 0.37013889 | H116: =IF(OR(H114="O",H114="A"),"O ",VALUE(H108)) -> 0.38402778 | I116: =IF(OR(I114="O",I114="A"),"O ",VALUE(I108)) -> 0.38194444 | ... AF116: =IF(OR(AF114="O",AF114="A"),"O ",VALUE(AF108)) -> O
...
